BEGIN:VCALENDAR
VERSION:2.0
PRODID:-//Total Success Training - ECPv6.15.18//NONSGML v1.0//EN
CALSCALE:GREGORIAN
METHOD:PUBLISH
X-WR-CALNAME:Total Success Training
X-ORIGINAL-URL:https://www.totalsuccess.co.uk
X-WR-CALDESC:Events for Total Success Training
REFRESH-INTERVAL;VALUE=DURATION:PT1H
X-Robots-Tag:noindex
X-PUBLISHED-TTL:PT1H
BEGIN:VTIMEZONE
TZID:UTC
BEGIN:STANDARD
TZOFFSETFROM:+0000
TZOFFSETTO:+0000
TZNAME:UTC
DTSTART:20240101T000000
END:STANDARD
END:VTIMEZONE
BEGIN:VEVENT
DTSTART;TZID=UTC:20251209T093000
DTEND;TZID=UTC:20251209T160000
DTSTAMP:20260421T213309
CREATED:20200102T092457Z
LAST-MODIFIED:20250505T135802Z
UID:10091-1765272600-1765296000@www.totalsuccess.co.uk
SUMMARY:Interview Skills for the Interviewee - 1 day Face to Face Course
DESCRIPTION:The aim of this one-day course is teach delegates the tips\, techniques\, strategies and the art of the successful recruitment interview and how to be the perfect interviewee for the role. \nCourse aims and objectives for interviewees \n\nTo enable delegates to evaluate the most effective ways of responding to questions\nTo enable delegates to prepare for effective selection interviews\nTo describe some of the most important interviewing skills.\nTo give an understanding of the pitfalls for interviewees that are badly prepared
URL:https://www.totalsuccess.co.uk/course/interview-skills-for-the-interviewee-13/
LOCATION:The Whitechapel Building\, 10 Whitechapel High St\, London\, E1 8QS\, 150 Minories\, London\, EC3N 1LS\, United Kingdom
CATEGORIES:Interviewing skills for the Interviewee
GEO:51.5178676;-0.1300681
X-APPLE-STRUCTURED-LOCATION;VALUE=URI;X-ADDRESS=The Whitechapel Building 10 Whitechapel High St London E1 8QS 150 Minories London EC3N 1LS United Kingdom;X-APPLE-RADIUS=500;X-TITLE=150 Minories:geo:-0.1300681,51.5178676
END:VEVENT
END:VCALENDAR