BEGIN:VCALENDAR
VERSION:2.0
PRODID:-//Total Success Training - ECPv6.15.18//NONSGML v1.0//EN
CALSCALE:GREGORIAN
METHOD:PUBLISH
X-WR-CALNAME:Total Success Training
X-ORIGINAL-URL:https://www.totalsuccess.co.uk
X-WR-CALDESC:Events for Total Success Training
REFRESH-INTERVAL;VALUE=DURATION:PT1H
X-Robots-Tag:noindex
X-PUBLISHED-TTL:PT1H
BEGIN:VTIMEZONE
TZID:UTC
BEGIN:STANDARD
TZOFFSETFROM:+0000
TZOFFSETTO:+0000
TZNAME:UTC
DTSTART:20250101T000000
END:STANDARD
END:VTIMEZONE
BEGIN:VEVENT
DTSTART;TZID=UTC:20260629T093000
DTEND;TZID=UTC:20260629T160000
DTSTAMP:20260421T160623
CREATED:20230510T142351Z
LAST-MODIFIED:20260324T102115Z
UID:15062-1782725400-1782748800@www.totalsuccess.co.uk
SUMMARY:Interview skills for the interviewee - 1 day Face to Face course
DESCRIPTION:The aim of this one-day course is teach delegates the tips\, techniques\, strategies and the art of the successful recruitment interview and how to be the perfect interviewee for the role. \nCourse aims and objectives for interviewees \n\nTo enable delegates to evaluate the most effective ways of responding to questions\nTo enable delegates to prepare for effective selection interviews\nTo describe some of the most important interviewing skills.\nTo give an understanding of the pitfalls for interviewees that are badly prepared
URL:https://www.totalsuccess.co.uk/course/interview-skills-for-the-interviewee-1-day-face-to-face-course-6/
LOCATION:The Whitechapel Building\, 10 Whitechapel High St\, London\, E1 8QS\, 150 Minories\, London\, EC3N 1LS\, United Kingdom
CATEGORIES:Interviewing skills for the Interviewee
GEO:51.5178676;-0.1300681
X-APPLE-STRUCTURED-LOCATION;VALUE=URI;X-ADDRESS=The Whitechapel Building 10 Whitechapel High St London E1 8QS 150 Minories London EC3N 1LS United Kingdom;X-APPLE-RADIUS=500;X-TITLE=150 Minories:geo:-0.1300681,51.5178676
END:VEVENT
BEGIN:VEVENT
DTSTART;TZID=UTC:20261130T093000
DTEND;TZID=UTC:20261130T160000
DTSTAMP:20260421T160623
CREATED:20230510T141950Z
LAST-MODIFIED:20260324T102247Z
UID:15060-1796031000-1796054400@www.totalsuccess.co.uk
SUMMARY:Interview skills for the interviewee - 1 day Face to Face course
DESCRIPTION:The aim of this one-day course is teach delegates the tips\, techniques\, strategies and the art of the successful recruitment interview and how to be the perfect interviewee for the role. \nCourse aims and objectives for interviewees \n\nTo enable delegates to evaluate the most effective ways of responding to questions\nTo enable delegates to prepare for effective selection interviews\nTo describe some of the most important interviewing skills.\nTo give an understanding of the pitfalls for interviewees that are badly prepared
URL:https://www.totalsuccess.co.uk/course/interview-skills-for-the-interviewee-1-day-face-to-face-course-5/
LOCATION:The Whitechapel Building\, 10 Whitechapel High St\, London\, E1 8QS\, 150 Minories\, London\, EC3N 1LS\, United Kingdom
CATEGORIES:Interviewing skills for the Interviewee
GEO:51.5178676;-0.1300681
X-APPLE-STRUCTURED-LOCATION;VALUE=URI;X-ADDRESS=The Whitechapel Building 10 Whitechapel High St London E1 8QS 150 Minories London EC3N 1LS United Kingdom;X-APPLE-RADIUS=500;X-TITLE=150 Minories:geo:-0.1300681,51.5178676
END:VEVENT
BEGIN:VEVENT
DTSTART;TZID=UTC:20270630T093000
DTEND;TZID=UTC:20270630T153000
DTSTAMP:20260421T160623
CREATED:20230510T135620Z
LAST-MODIFIED:20260324T102424Z
UID:15052-1814347800-1814369400@www.totalsuccess.co.uk
SUMMARY:Interview skills for the Interviewee - 1 Day - Live Virtual Remote Course
DESCRIPTION:The aim of this one-day course is teach delegates the tips\, techniques\, strategies and the art of the successful recruitment interview and how to be the perfect interviewee for the role. \nCourse aims and objectives for interviewees \n\nTo enable delegates to evaluate the most effective ways of responding to questions\nTo enable delegates to prepare for effective selection interviews\nTo describe some of the most important interviewing skills.\nTo give an understanding of the pitfalls for interviewees that are badly prepared\n\nLive Remote Virtual Course \nThis course will be run virtually via Zoom.com. \nThe course will start at 9.45 for registration and pre-course work assignments. \nTimings:       9.45-10.00 Log in and system check \n10.00-12.30 Morning \n1.00-3.30 Afternoon \nThe course will be hosted on Zoom.com and once you have booked we will send the following files: \n\nPre-course file with all log in details and pre-course assignments. Please complete this form and send back to us prior to the course to info@totalsuccess.co.uk. It includes course objectives and agenda that we will run through with you during the Introduction\nThe handouts we will be using on the course.\nA course manual that can be downloaded for reference during the seminar. You don’t have to print the manual but please download it as we will refer to it on the day\nA full set of the activities you’ll be doing on the course. These can be completed before the course\, but this is not essential\nA link to zoom.com with all the information needed to access the programme via your computer\nA post-course action plan and course evaluation form. This will be completed as proof of attending. A copy should also be sent to us. This is in the Handouts email.\n\nPlease ensure you download the zoom.com app on your computer and check that it works prior to log in as it takes about 30 mins to set up the free account.
URL:https://www.totalsuccess.co.uk/course/interview-skills-for-the-interviewee-1-day-live-virtual-remote-course-5/
LOCATION:Zoom virtual meeting\, London\, United Kingdom
CATEGORIES:Interviewing skills for the Interviewee
END:VEVENT
END:VCALENDAR