BEGIN:VCALENDAR
VERSION:2.0
PRODID:-//Total Success Training - ECPv6.15.18//NONSGML v1.0//EN
CALSCALE:GREGORIAN
METHOD:PUBLISH
X-WR-CALNAME:Total Success Training
X-ORIGINAL-URL:https://www.totalsuccess.co.uk
X-WR-CALDESC:Events for Total Success Training
REFRESH-INTERVAL;VALUE=DURATION:PT1H
X-Robots-Tag:noindex
X-PUBLISHED-TTL:PT1H
BEGIN:VTIMEZONE
TZID:UTC
BEGIN:STANDARD
TZOFFSETFROM:+0000
TZOFFSETTO:+0000
TZNAME:UTC
DTSTART:20170101T000000
END:STANDARD
END:VTIMEZONE
BEGIN:VEVENT
DTSTART;TZID=UTC:20190417T093000
DTEND;TZID=UTC:20190417T173000
DTSTAMP:20260423T223909
CREATED:20180627T162306Z
LAST-MODIFIED:20190118T134636Z
UID:7667-1555493400-1555522200@www.totalsuccess.co.uk
SUMMARY:Interview skills for the interviewee
DESCRIPTION:The aim of this one-day course is teach delegates the tips\, techniques\, strategies and the art of the successful recruitment interview and how to be the perfect interviewee for the role. \nCourse aims and objectives for interviewees \n\nTo enable delegates to evaluate the most effective ways of responding to questions\nTo enable delegates to prepare for effective selection interviews\nTo describe some of the most important interviewing skills.\nTo give an understanding of the pitfalls for interviewees that are badly prepared
URL:https://www.totalsuccess.co.uk/course/interview-skills-for-the-interviewee-2019-01-29-2019-04-17/
LOCATION:The Whitechapel Building\, 10 Whitechapel High St\, London\, E1 8QS\, 150 Minories\, London\, EC3N 1LS\, United Kingdom
CATEGORIES:Interviewing skills for the Interviewee
GEO:51.5178676;-0.1300681
X-APPLE-STRUCTURED-LOCATION;VALUE=URI;X-ADDRESS=The Whitechapel Building 10 Whitechapel High St London E1 8QS 150 Minories London EC3N 1LS United Kingdom;X-APPLE-RADIUS=500;X-TITLE=150 Minories:geo:-0.1300681,51.5178676
END:VEVENT
BEGIN:VEVENT
DTSTART;TZID=UTC:20190320T093000
DTEND;TZID=UTC:20190320T173000
DTSTAMP:20260423T223909
CREATED:20180627T162306Z
LAST-MODIFIED:20190118T134551Z
UID:7666-1553074200-1553103000@www.totalsuccess.co.uk
SUMMARY:Interview skills for the interviewee
DESCRIPTION:The aim of this one-day course is teach delegates the tips\, techniques\, strategies and the art of the successful recruitment interview and how to be the perfect interviewee for the role. \nCourse aims and objectives for interviewees \n\nTo enable delegates to evaluate the most effective ways of responding to questions\nTo enable delegates to prepare for effective selection interviews\nTo describe some of the most important interviewing skills.\nTo give an understanding of the pitfalls for interviewees that are badly prepared
URL:https://www.totalsuccess.co.uk/course/interview-skills-for-the-interviewee-2019-01-29-2019-03-20/
LOCATION:The Whitechapel Building\, 10 Whitechapel High St\, London\, E1 8QS\, 150 Minories\, London\, EC3N 1LS\, United Kingdom
CATEGORIES:Interviewing skills for the Interviewee
GEO:51.5178676;-0.1300681
X-APPLE-STRUCTURED-LOCATION;VALUE=URI;X-ADDRESS=The Whitechapel Building 10 Whitechapel High St London E1 8QS 150 Minories London EC3N 1LS United Kingdom;X-APPLE-RADIUS=500;X-TITLE=150 Minories:geo:-0.1300681,51.5178676
END:VEVENT
BEGIN:VEVENT
DTSTART;TZID=UTC:20190220T093000
DTEND;TZID=UTC:20190220T173000
DTSTAMP:20260423T223909
CREATED:20180627T162306Z
LAST-MODIFIED:20190118T134519Z
UID:7665-1550655000-1550683800@www.totalsuccess.co.uk
SUMMARY:Interview skills for the interviewee
DESCRIPTION:The aim of this one-day course is teach delegates the tips\, techniques\, strategies and the art of the successful recruitment interview and how to be the perfect interviewee for the role. \nCourse aims and objectives for interviewees \n\nTo enable delegates to evaluate the most effective ways of responding to questions\nTo enable delegates to prepare for effective selection interviews\nTo describe some of the most important interviewing skills.\nTo give an understanding of the pitfalls for interviewees that are badly prepared
URL:https://www.totalsuccess.co.uk/course/interview-skills-for-the-interviewee-2019-01-29-2019-02-20/
LOCATION:The Whitechapel Building\, 10 Whitechapel High St\, London\, E1 8QS\, 150 Minories\, London\, EC3N 1LS\, United Kingdom
CATEGORIES:Interviewing skills for the Interviewee
GEO:51.5178676;-0.1300681
X-APPLE-STRUCTURED-LOCATION;VALUE=URI;X-ADDRESS=The Whitechapel Building 10 Whitechapel High St London E1 8QS 150 Minories London EC3N 1LS United Kingdom;X-APPLE-RADIUS=500;X-TITLE=150 Minories:geo:-0.1300681,51.5178676
END:VEVENT
BEGIN:VEVENT
DTSTART;TZID=UTC:20190129T093000
DTEND;TZID=UTC:20190129T173000
DTSTAMP:20260423T223909
CREATED:20180627T162306Z
LAST-MODIFIED:20190118T134451Z
UID:7021-1548754200-1548783000@www.totalsuccess.co.uk
SUMMARY:Interview skills for the interviewee
DESCRIPTION:The aim of this one-day course is teach delegates the tips\, techniques\, strategies and the art of the successful recruitment interview and how to be the perfect interviewee for the role. \nCourse aims and objectives for interviewees \n\nTo enable delegates to evaluate the most effective ways of responding to questions\nTo enable delegates to prepare for effective selection interviews\nTo describe some of the most important interviewing skills.\nTo give an understanding of the pitfalls for interviewees that are badly prepared
URL:https://www.totalsuccess.co.uk/course/interview-skills-for-the-interviewee-2019-01-29/
LOCATION:The Whitechapel Building\, 10 Whitechapel High St\, London\, E1 8QS\, 150 Minories\, London\, EC3N 1LS\, United Kingdom
CATEGORIES:Interviewing skills for the Interviewee
GEO:51.5178676;-0.1300681
X-APPLE-STRUCTURED-LOCATION;VALUE=URI;X-ADDRESS=The Whitechapel Building 10 Whitechapel High St London E1 8QS 150 Minories London EC3N 1LS United Kingdom;X-APPLE-RADIUS=500;X-TITLE=150 Minories:geo:-0.1300681,51.5178676
END:VEVENT
BEGIN:VEVENT
DTSTART;TZID=UTC:20181112T093000
DTEND;TZID=UTC:20181112T173000
DTSTAMP:20260423T223909
CREATED:20180627T162306Z
LAST-MODIFIED:20180803T101701Z
UID:7020-1542015000-1542043800@www.totalsuccess.co.uk
SUMMARY:Interview skills for the interviewee
DESCRIPTION:The aim of this one-day course is teach delegates the tips\, techniques\, strategies and the art of the successful recruitment interview and how to be the perfect interviewee for the role. \nCourse aims and objectives for interviewees \n\nTo enable delegates to evaluate the most effective ways of responding to questions\nTo enable delegates to prepare for effective selection interviews\nTo describe some of the most important interviewing skills.\nTo give an understanding of the pitfalls for interviewees that are badly prepared
URL:https://www.totalsuccess.co.uk/course/interview-skills-for-the-interviewee-2018-11-12/
LOCATION:The Whitechapel Building\, 10 Whitechapel High St\, London\, E1 8QS\, 150 Minories\, London\, EC3N 1LS\, United Kingdom
CATEGORIES:Interviewing skills for the Interviewee
GEO:51.5178676;-0.1300681
X-APPLE-STRUCTURED-LOCATION;VALUE=URI;X-ADDRESS=The Whitechapel Building 10 Whitechapel High St London E1 8QS 150 Minories London EC3N 1LS United Kingdom;X-APPLE-RADIUS=500;X-TITLE=150 Minories:geo:-0.1300681,51.5178676
END:VEVENT
END:VCALENDAR