BEGIN:VCALENDAR
VERSION:2.0
PRODID:-//Total Success Training - ECPv6.15.18//NONSGML v1.0//EN
CALSCALE:GREGORIAN
METHOD:PUBLISH
X-ORIGINAL-URL:https://www.totalsuccess.co.uk
X-WR-CALDESC:Events for Total Success Training
REFRESH-INTERVAL;VALUE=DURATION:PT1H
X-Robots-Tag:noindex
X-PUBLISHED-TTL:PT1H
BEGIN:VTIMEZONE
TZID:UTC
BEGIN:STANDARD
TZOFFSETFROM:+0000
TZOFFSETTO:+0000
TZNAME:UTC
DTSTART:20250101T000000
END:STANDARD
END:VTIMEZONE
BEGIN:VEVENT
DTSTART;TZID=UTC:20260216T093000
DTEND;TZID=UTC:20260217T153000
DTSTAMP:20260424T140458
CREATED:20230511T080749Z
LAST-MODIFIED:20251021T143145Z
UID:15123-1771234200-1771342200@www.totalsuccess.co.uk
SUMMARY:The New Manager – CPD Accredited - 2 day Live remote training
DESCRIPTION:If you are on your way to becoming a new manager or would like to learn the fundamentals of how to become a better manager then this will be the ideal course for you. This course will focus on the essential requirements needed to execute managing for the first time if you are a newly qualified manager and will also allow you to gain knowledge of the skills needed for leading a new team effectively if you are a newly promoted manager. We will cover Assertive Leadership\, Managing the Difficult Conversation\, Team Building\, Situational Leadership\, Appraisal Skills\, Motivation and Training/Coaching Skills. \nHow We Will Organise The Live Remote Course: \nIt couldn’t be easier as we take care of the whole process from start to finish. \nThe course will contain the same content as the face to face training but will start at 9.45 and finish at 3.30 (with 30 minutes for lunch) \n\nBook the course you require online\nWe will send out the course materials including downloadable course manual\, all of the course materials\, a pre-course briefing form\nWe will start log-ins 15 minutes prior to the course start to allow everyone to connect\nAll delegates will complete the pre-prepared course activities that we will use during the course\nOur virtual courses are very interactive to keep delegate’s attention throughout\nAll delegates will complete a Post-course action plan that can be reviewed their managers after the course.\n\n Full Course Details
URL:https://www.totalsuccess.co.uk/course/the-new-manager-cpd-accredited-2-day-live-remote-training-21/
LOCATION:Zoom virtual meeting\, London\, United Kingdom
CATEGORIES:The New Manager
ATTACH;FMTTYPE=image/png:https://www.totalsuccess.co.uk/wp-content/uploads/2018/04/TS_HandTree.png
END:VEVENT
BEGIN:VEVENT
DTSTART;TZID=UTC:20260223T093000
DTEND;TZID=UTC:20260224T153000
DTSTAMP:20260424T140458
CREATED:20240918T122817Z
LAST-MODIFIED:20260122T165118Z
UID:16374-1771839000-1771947000@www.totalsuccess.co.uk
SUMMARY:The New Manager – CPD Accredited - 2 day Live remote training
DESCRIPTION:If you are on your way to becoming a new manager or would like to learn the fundamentals of how to become a better manager then this will be the ideal course for you. This course will focus on the essential requirements needed to execute managing for the first time if you are a newly qualified manager and will also allow you to gain knowledge of the skills needed for leading a new team effectively if you are a newly promoted manager. We will cover Assertive Leadership\, Managing the Difficult Conversation\, Team Building\, Situational Leadership\, Appraisal Skills\, Motivation and Training/Coaching Skills. \nHow We Will Organise The Live Remote Course: \nIt couldn’t be easier as we take care of the whole process from start to finish. \nThe course will contain the same content as the face to face training but will start at 9.45 and finish at 3.30 (with 30 minutes for lunch) \n\nBook the course you require online\nWe will send out the course materials including downloadable course manual\, all of the course materials\, a pre-course briefing form\nWe will start log-ins 15 minutes prior to the course start to allow everyone to connect\nAll delegates will complete the pre-prepared course activities that we will use during the course\nOur virtual courses are very interactive to keep delegate’s attention throughout\nAll delegates will complete a Post-course action plan that can be reviewed their managers after the course.\n\n Full Course Details
URL:https://www.totalsuccess.co.uk/course/the-new-manager-cpd-accredited-2-day-live-remote-training-23/
LOCATION:Zoom virtual meeting\, London\, United Kingdom
CATEGORIES:The New Manager
ATTACH;FMTTYPE=image/png:https://www.totalsuccess.co.uk/wp-content/uploads/2018/04/TS_HandTree.png
END:VEVENT
END:VCALENDAR