BEGIN:VCALENDAR
VERSION:2.0
PRODID:-//Total Success Training - ECPv6.15.18//NONSGML v1.0//EN
CALSCALE:GREGORIAN
METHOD:PUBLISH
X-ORIGINAL-URL:https://www.totalsuccess.co.uk
X-WR-CALDESC:Events for Total Success Training
REFRESH-INTERVAL;VALUE=DURATION:PT1H
X-Robots-Tag:noindex
X-PUBLISHED-TTL:PT1H
BEGIN:VTIMEZONE
TZID:UTC
BEGIN:STANDARD
TZOFFSETFROM:+0000
TZOFFSETTO:+0000
TZNAME:UTC
DTSTART:20170101T000000
END:STANDARD
END:VTIMEZONE
BEGIN:VEVENT
DTSTART;TZID=UTC:20190619T093000
DTEND;TZID=UTC:20190620T173000
DTSTAMP:20260423T092917
CREATED:20180501T110957Z
LAST-MODIFIED:20190121T103352Z
UID:7805-1560936600-1561051800@www.totalsuccess.co.uk
SUMMARY:The New Manager – 2 day
DESCRIPTION:If you are on your way to becoming a new manager or would like to learn the fundamentals of how to become a better manager then this will be the ideal course for you. This course will focus on the essential requirements needed to execute managing for the first time if you are a newly qualified manager and will also allow you to gain knowledge of the skills needed for leading a new team effectively if you are a newly promoted manager. \n Full Course Details
URL:https://www.totalsuccess.co.uk/course/the-new-manager-2-day-7-2019-01-30-2019-06-19/
LOCATION:The Whitechapel Building\, 10 Whitechapel High St\, London\, E1 8QS\, 150 Minories\, London\, EC3N 1LS\, United Kingdom
CATEGORIES:The New Manager
ATTACH;FMTTYPE=image/png:https://www.totalsuccess.co.uk/wp-content/uploads/2018/04/TS_HandTree.png
GEO:51.5178676;-0.1300681
X-APPLE-STRUCTURED-LOCATION;VALUE=URI;X-ADDRESS=The Whitechapel Building 10 Whitechapel High St London E1 8QS 150 Minories London EC3N 1LS United Kingdom;X-APPLE-RADIUS=500;X-TITLE=150 Minories:geo:-0.1300681,51.5178676
END:VEVENT
BEGIN:VEVENT
DTSTART;TZID=UTC:20190522T093000
DTEND;TZID=UTC:20190523T173000
DTSTAMP:20260423T092917
CREATED:20180501T110957Z
LAST-MODIFIED:20190121T103302Z
UID:7804-1558517400-1558632600@www.totalsuccess.co.uk
SUMMARY:The New Manager – 2 day
DESCRIPTION:If you are on your way to becoming a new manager or would like to learn the fundamentals of how to become a better manager then this will be the ideal course for you. This course will focus on the essential requirements needed to execute managing for the first time if you are a newly qualified manager and will also allow you to gain knowledge of the skills needed for leading a new team effectively if you are a newly promoted manager. \n Full Course Details
URL:https://www.totalsuccess.co.uk/course/the-new-manager-2-day-7-2019-01-30-2019-05-22/
LOCATION:The Whitechapel Building\, 10 Whitechapel High St\, London\, E1 8QS\, 150 Minories\, London\, EC3N 1LS\, United Kingdom
CATEGORIES:The New Manager
ATTACH;FMTTYPE=image/png:https://www.totalsuccess.co.uk/wp-content/uploads/2018/04/TS_HandTree.png
GEO:51.5178676;-0.1300681
X-APPLE-STRUCTURED-LOCATION;VALUE=URI;X-ADDRESS=The Whitechapel Building 10 Whitechapel High St London E1 8QS 150 Minories London EC3N 1LS United Kingdom;X-APPLE-RADIUS=500;X-TITLE=150 Minories:geo:-0.1300681,51.5178676
END:VEVENT
BEGIN:VEVENT
DTSTART;TZID=UTC:20190424T093000
DTEND;TZID=UTC:20190425T173000
DTSTAMP:20260423T092917
CREATED:20180501T110957Z
LAST-MODIFIED:20190121T103232Z
UID:7803-1556098200-1556213400@www.totalsuccess.co.uk
SUMMARY:The New Manager – 2 day
DESCRIPTION:If you are on your way to becoming a new manager or would like to learn the fundamentals of how to become a better manager then this will be the ideal course for you. This course will focus on the essential requirements needed to execute managing for the first time if you are a newly qualified manager and will also allow you to gain knowledge of the skills needed for leading a new team effectively if you are a newly promoted manager. \n Full Course Details
URL:https://www.totalsuccess.co.uk/course/the-new-manager-2-day-7-2019-01-30-2019-04-24/
LOCATION:The Whitechapel Building\, 10 Whitechapel High St\, London\, E1 8QS\, 150 Minories\, London\, EC3N 1LS\, United Kingdom
CATEGORIES:The New Manager
ATTACH;FMTTYPE=image/png:https://www.totalsuccess.co.uk/wp-content/uploads/2018/04/TS_HandTree.png
GEO:51.5178676;-0.1300681
X-APPLE-STRUCTURED-LOCATION;VALUE=URI;X-ADDRESS=The Whitechapel Building 10 Whitechapel High St London E1 8QS 150 Minories London EC3N 1LS United Kingdom;X-APPLE-RADIUS=500;X-TITLE=150 Minories:geo:-0.1300681,51.5178676
END:VEVENT
BEGIN:VEVENT
DTSTART;TZID=UTC:20190327T093000
DTEND;TZID=UTC:20190328T173000
DTSTAMP:20260423T092917
CREATED:20180501T110957Z
LAST-MODIFIED:20190121T103201Z
UID:7802-1553679000-1553794200@www.totalsuccess.co.uk
SUMMARY:The New Manager – 2 day
DESCRIPTION:If you are on your way to becoming a new manager or would like to learn the fundamentals of how to become a better manager then this will be the ideal course for you. This course will focus on the essential requirements needed to execute managing for the first time if you are a newly qualified manager and will also allow you to gain knowledge of the skills needed for leading a new team effectively if you are a newly promoted manager. \n Full Course Details
URL:https://www.totalsuccess.co.uk/course/the-new-manager-2-day-7-2019-01-30-2019-03-27/
LOCATION:The Whitechapel Building\, 10 Whitechapel High St\, London\, E1 8QS\, 150 Minories\, London\, EC3N 1LS\, United Kingdom
CATEGORIES:The New Manager
ATTACH;FMTTYPE=image/png:https://www.totalsuccess.co.uk/wp-content/uploads/2018/04/TS_HandTree.png
GEO:51.5178676;-0.1300681
X-APPLE-STRUCTURED-LOCATION;VALUE=URI;X-ADDRESS=The Whitechapel Building 10 Whitechapel High St London E1 8QS 150 Minories London EC3N 1LS United Kingdom;X-APPLE-RADIUS=500;X-TITLE=150 Minories:geo:-0.1300681,51.5178676
END:VEVENT
BEGIN:VEVENT
DTSTART;TZID=UTC:20190227T093000
DTEND;TZID=UTC:20190228T173000
DTSTAMP:20260423T092917
CREATED:20180501T110957Z
LAST-MODIFIED:20190121T101837Z
UID:7801-1551259800-1551375000@www.totalsuccess.co.uk
SUMMARY:The New Manager – 2 day
DESCRIPTION:If you are on your way to becoming a new manager or would like to learn the fundamentals of how to become a better manager then this will be the ideal course for you. This course will focus on the essential requirements needed to execute managing for the first time if you are a newly qualified manager and will also allow you to gain knowledge of the skills needed for leading a new team effectively if you are a newly promoted manager. \n Full Course Details
URL:https://www.totalsuccess.co.uk/course/the-new-manager-2-day-7-2019-01-30-2019-02-27/2019-02-27/
LOCATION:The Whitechapel Building\, 10 Whitechapel High St\, London\, E1 8QS\, 150 Minories\, London\, EC3N 1LS\, United Kingdom
CATEGORIES:The New Manager
ATTACH;FMTTYPE=image/png:https://www.totalsuccess.co.uk/wp-content/uploads/2018/04/TS_HandTree.png
GEO:51.5178676;-0.1300681
X-APPLE-STRUCTURED-LOCATION;VALUE=URI;X-ADDRESS=The Whitechapel Building 10 Whitechapel High St London E1 8QS 150 Minories London EC3N 1LS United Kingdom;X-APPLE-RADIUS=500;X-TITLE=150 Minories:geo:-0.1300681,51.5178676
END:VEVENT
BEGIN:VEVENT
DTSTART;TZID=UTC:20190130T093000
DTEND;TZID=UTC:20190131T173000
DTSTAMP:20260423T092917
CREATED:20180501T110957Z
LAST-MODIFIED:20190117T133341Z
UID:7128-1548840600-1548955800@www.totalsuccess.co.uk
SUMMARY:The New Manager – 2 day
DESCRIPTION:If you are on your way to becoming a new manager or would like to learn the fundamentals of how to become a better manager then this will be the ideal course for you. This course will focus on the essential requirements needed to execute managing for the first time if you are a newly qualified manager and will also allow you to gain knowledge of the skills needed for leading a new team effectively if you are a newly promoted manager. \n Full Course Details
URL:https://www.totalsuccess.co.uk/course/the-new-manager-2-day-7-2019-01-30/
LOCATION:The Whitechapel Building\, 10 Whitechapel High St\, London\, E1 8QS\, 150 Minories\, London\, EC3N 1LS\, United Kingdom
CATEGORIES:The New Manager
ATTACH;FMTTYPE=image/png:https://www.totalsuccess.co.uk/wp-content/uploads/2018/04/TS_HandTree.png
GEO:51.5178676;-0.1300681
X-APPLE-STRUCTURED-LOCATION;VALUE=URI;X-ADDRESS=The Whitechapel Building 10 Whitechapel High St London E1 8QS 150 Minories London EC3N 1LS United Kingdom;X-APPLE-RADIUS=500;X-TITLE=150 Minories:geo:-0.1300681,51.5178676
END:VEVENT
BEGIN:VEVENT
DTSTART;TZID=UTC:20181206T093000
DTEND;TZID=UTC:20181207T173000
DTSTAMP:20260423T092917
CREATED:20180501T110957Z
LAST-MODIFIED:20180810T091513Z
UID:7127-1544088600-1544203800@www.totalsuccess.co.uk
SUMMARY:The New Manager – 2 day
DESCRIPTION:If you are on your way to becoming a new manager or would like to learn the fundamentals of how to become a better manager then this will be the ideal course for you. This course will focus on the essential requirements needed to execute managing for the first time if you are a newly qualified manager and will also allow you to gain knowledge of the skills needed for leading a new team effectively if you are a newly promoted manager. \n Full Course Details
URL:https://www.totalsuccess.co.uk/course/the-new-manager-2-day-7-2018-12-06/
LOCATION:The Whitechapel Building\, 10 Whitechapel High St\, London\, E1 8QS\, 150 Minories\, London\, EC3N 1LS\, United Kingdom
CATEGORIES:The New Manager
ATTACH;FMTTYPE=image/png:https://www.totalsuccess.co.uk/wp-content/uploads/2018/04/TS_HandTree.png
GEO:51.5178676;-0.1300681
X-APPLE-STRUCTURED-LOCATION;VALUE=URI;X-ADDRESS=The Whitechapel Building 10 Whitechapel High St London E1 8QS 150 Minories London EC3N 1LS United Kingdom;X-APPLE-RADIUS=500;X-TITLE=150 Minories:geo:-0.1300681,51.5178676
END:VEVENT
BEGIN:VEVENT
DTSTART;TZID=UTC:20181108T093000
DTEND;TZID=UTC:20181109T173000
DTSTAMP:20260423T092917
CREATED:20180501T110957Z
LAST-MODIFIED:20180810T091527Z
UID:7126-1541669400-1541784600@www.totalsuccess.co.uk
SUMMARY:The New Manager – 2 day
DESCRIPTION:If you are on your way to becoming a new manager or would like to learn the fundamentals of how to become a better manager then this will be the ideal course for you. This course will focus on the essential requirements needed to execute managing for the first time if you are a newly qualified manager and will also allow you to gain knowledge of the skills needed for leading a new team effectively if you are a newly promoted manager. \n Full Course Details
URL:https://www.totalsuccess.co.uk/course/the-new-manager-2-day-7-2018-11-08/
LOCATION:The Whitechapel Building\, 10 Whitechapel High St\, London\, E1 8QS\, 150 Minories\, London\, EC3N 1LS\, United Kingdom
CATEGORIES:The New Manager
ATTACH;FMTTYPE=image/png:https://www.totalsuccess.co.uk/wp-content/uploads/2018/04/TS_HandTree.png
GEO:51.5178676;-0.1300681
X-APPLE-STRUCTURED-LOCATION;VALUE=URI;X-ADDRESS=The Whitechapel Building 10 Whitechapel High St London E1 8QS 150 Minories London EC3N 1LS United Kingdom;X-APPLE-RADIUS=500;X-TITLE=150 Minories:geo:-0.1300681,51.5178676
END:VEVENT
END:VCALENDAR