BEGIN:VCALENDAR
VERSION:2.0
PRODID:-//Total Success Training - ECPv6.15.18//NONSGML v1.0//EN
CALSCALE:GREGORIAN
METHOD:PUBLISH
X-WR-CALNAME:Total Success Training
X-ORIGINAL-URL:https://www.totalsuccess.co.uk
X-WR-CALDESC:Events for Total Success Training
REFRESH-INTERVAL;VALUE=DURATION:PT1H
X-Robots-Tag:noindex
X-PUBLISHED-TTL:PT1H
BEGIN:VTIMEZONE
TZID:UTC
BEGIN:STANDARD
TZOFFSETFROM:+0000
TZOFFSETTO:+0000
TZNAME:UTC
DTSTART:20250101T000000
END:STANDARD
END:VTIMEZONE
BEGIN:VEVENT
DTSTART;TZID=UTC:20260602T093000
DTEND;TZID=UTC:20260602T160000
DTSTAMP:20260424T144105
CREATED:20210109T125118Z
LAST-MODIFIED:20251005T144823Z
UID:12472-1780392600-1780416000@www.totalsuccess.co.uk
SUMMARY:Coaching for Managers – 1 day - CPD Accredited - Face to Face Training Course
DESCRIPTION:Our ‘Coaching for Managers’ one-day course will show delegates tried and tested methods about 1-2-1 training; executive coaching and how to develop people in order to improve productivity and motivation. We explain through discussion\, role-play and case study how to coach staff to achieve the impossible in terms of team development and business performance. \nIt will also show them how to plan\, prepare and implement a coaching programme for induction courses and how to evaluate its success. It also looks at the relationship between coaching\, mentoring and training. \nIt will also show them how to plan\, prepare and implement a coaching programme for induction courses and how to evaluate its success. It also looks at the relationship between coaching\, mentoring and training. \nBy the end of this course delegates will have the skills to: \n\nDesign a coaching programme that can be adapted to training at any level.\nUse a structured approach to coaching design and delivery.\nHighlight the key teaching and learning points of the session and train to achieve those objectives.\nOrganise the logistics of a coaching session.\nDeliver the coaching in a credible and creative way.\nEnsure the coaching is interactive and interesting.\nGain feedback to evaluate the training’s progress.\nEvaluate the effectiveness of the skills and strategies taught.\nEnable effective follow-thorough by use of post training templates\n\n  \n Full Course Details
URL:https://www.totalsuccess.co.uk/course/coaching-for-managers-1-day-cpd-accredited-face-to-face-training-course-6/
LOCATION:The Whitechapel Building\, 10 Whitechapel High St\, London\, E1 8QS\, 150 Minories\, London\, EC3N 1LS\, United Kingdom
CATEGORIES:Coaching for Managers - 1 Day,People Management
ATTACH;FMTTYPE=image/png:https://www.totalsuccess.co.uk/wp-content/uploads/2018/04/TS_HandTree.png
GEO:51.5178676;-0.1300681
X-APPLE-STRUCTURED-LOCATION;VALUE=URI;X-ADDRESS=The Whitechapel Building 10 Whitechapel High St London E1 8QS 150 Minories London EC3N 1LS United Kingdom;X-APPLE-RADIUS=500;X-TITLE=150 Minories:geo:-0.1300681,51.5178676
END:VEVENT
BEGIN:VEVENT
DTSTART;TZID=UTC:20260605T093000
DTEND;TZID=UTC:20260605T153000
DTSTAMP:20260424T144105
CREATED:20210109T121742Z
LAST-MODIFIED:20251005T144718Z
UID:12449-1780651800-1780673400@www.totalsuccess.co.uk
SUMMARY:Coaching for Managers – Live Virtual Remote Training - 1 Day - CPD Accredited
DESCRIPTION:Our ‘Coaching for Managers’ one-day course will show delegates tried and tested methods about 1-2-1 training; executive coaching and how to develop people in order to improve productivity and motivation. We explain through discussion\, role-play and case study how to coach staff to achieve the impossible in terms of team development and business performance. \nIt will also show them how to plan\, prepare and implement a coaching programme for induction courses and how to evaluate its success. It also looks at the relationship between coaching\, mentoring and training. \nBy the end of this course delegates will have the skills to: \n\nDesign a coaching programme that can be adapted to training at any level.\nUse a structured approach to training design and delivery.\nHighlight the key teaching and learning points of the session and train to achieve those objectives.\nOrganise the logistics of a coaching session.\nDeliver the training in a credible and creative way.\nEnsure the training is interactive and interesting.\nGain feedback to evaluate the training’s progress.\nEvaluate the effectiveness of the skills and strategies taught.\nEnable effective follow-thorough by use of post training templates\n\n Full Course Details
URL:https://www.totalsuccess.co.uk/course/coaching-for-managers-live-virtual-remote-training-1-day-cpd-accredited-12/
LOCATION:Zoom virtual meeting\, London\, United Kingdom
CATEGORIES:Coaching for Managers - 1 Day,People Management
ATTACH;FMTTYPE=image/png:https://www.totalsuccess.co.uk/wp-content/uploads/2018/04/TS_HandTree.png
END:VEVENT
BEGIN:VEVENT
DTSTART;TZID=UTC:20260804T093000
DTEND;TZID=UTC:20260804T160000
DTSTAMP:20260424T144105
CREATED:20230505T135430Z
LAST-MODIFIED:20260324T072529Z
UID:14868-1785835800-1785859200@www.totalsuccess.co.uk
SUMMARY:Coaching for Managers – 1 day - CPD Accredited - Face to Face Training Course
DESCRIPTION:Our ‘Coaching for Managers’ one-day course will show delegates tried and tested methods about 1-2-1 training; executive coaching and how to develop people in order to improve productivity and motivation. We explain through discussion\, role-play and case study how to coach staff to achieve the impossible in terms of team development and business performance. \nIt will also show them how to plan\, prepare and implement a coaching programme for induction courses and how to evaluate its success. It also looks at the relationship between coaching\, mentoring and training. \nIt will also show them how to plan\, prepare and implement a coaching programme for induction courses and how to evaluate its success. It also looks at the relationship between coaching\, mentoring and training. \nBy the end of this course delegates will have the skills to: \n\nDesign a coaching programme that can be adapted to training at any level.\nUse a structured approach to coaching design and delivery.\nHighlight the key teaching and learning points of the session and train to achieve those objectives.\nOrganise the logistics of a coaching session.\nDeliver the coaching in a credible and creative way.\nEnsure the coaching is interactive and interesting.\nGain feedback to evaluate the training’s progress.\nEvaluate the effectiveness of the skills and strategies taught.\nEnable effective follow-thorough by use of post training templates\n\n  \n Full Course Details
URL:https://www.totalsuccess.co.uk/course/coaching-for-managers-1-day-cpd-accredited-face-to-face-training-course-14/
LOCATION:The Whitechapel Building\, 10 Whitechapel High St\, London\, E1 8QS\, 150 Minories\, London\, EC3N 1LS\, United Kingdom
CATEGORIES:Coaching for Managers - 1 Day,People Management
ATTACH;FMTTYPE=image/png:https://www.totalsuccess.co.uk/wp-content/uploads/2018/04/TS_HandTree.png
GEO:51.5178676;-0.1300681
X-APPLE-STRUCTURED-LOCATION;VALUE=URI;X-ADDRESS=The Whitechapel Building 10 Whitechapel High St London E1 8QS 150 Minories London EC3N 1LS United Kingdom;X-APPLE-RADIUS=500;X-TITLE=150 Minories:geo:-0.1300681,51.5178676
END:VEVENT
BEGIN:VEVENT
DTSTART;TZID=UTC:20260807T093000
DTEND;TZID=UTC:20260807T153000
DTSTAMP:20260424T144105
CREATED:20210109T121914Z
LAST-MODIFIED:20260324T072435Z
UID:12453-1786095000-1786116600@www.totalsuccess.co.uk
SUMMARY:Coaching for Managers – Live Virtual Remote Training - 1 Day - CPD Accredited
DESCRIPTION:Our ‘Coaching for Managers’ one-day course will show delegates tried and tested methods about 1-2-1 training; executive coaching and how to develop people in order to improve productivity and motivation. We explain through discussion\, role-play and case study how to coach staff to achieve the impossible in terms of team development and business performance. \nIt will also show them how to plan\, prepare and implement a coaching programme for induction courses and how to evaluate its success. It also looks at the relationship between coaching\, mentoring and training. \nBy the end of this course delegates will have the skills to: \n\nDesign a coaching programme that can be adapted to training at any level.\nUse a structured approach to training design and delivery.\nHighlight the key teaching and learning points of the session and train to achieve those objectives.\nOrganise the logistics of a coaching session.\nDeliver the training in a credible and creative way.\nEnsure the training is interactive and interesting.\nGain feedback to evaluate the training’s progress.\nEvaluate the effectiveness of the skills and strategies taught.\nEnable effective follow-thorough by use of post training templates\n\n Full Course Details
URL:https://www.totalsuccess.co.uk/course/coaching-for-managers-live-virtual-remote-training-1-day-cpd-accredited-14/
LOCATION:Zoom virtual meeting\, London\, United Kingdom
CATEGORIES:Coaching for Managers - 1 Day,People Management
ATTACH;FMTTYPE=image/png:https://www.totalsuccess.co.uk/wp-content/uploads/2018/04/TS_HandTree.png
END:VEVENT
BEGIN:VEVENT
DTSTART;TZID=UTC:20261002T093000
DTEND;TZID=UTC:20261002T153000
DTSTAMP:20260424T144105
CREATED:20210109T121229Z
LAST-MODIFIED:20260324T072809Z
UID:12445-1790933400-1790955000@www.totalsuccess.co.uk
SUMMARY:Coaching for Managers – Live Virtual Remote Training - 1 Day - CPD Accredited
DESCRIPTION:Our ‘Coaching for Managers’ one-day course will show delegates tried and tested methods about 1-2-1 training; executive coaching and how to develop people in order to improve productivity and motivation. We explain through discussion\, role-play and case study how to coach staff to achieve the impossible in terms of team development and business performance. \nIt will also show them how to plan\, prepare and implement a coaching programme for induction courses and how to evaluate its success. It also looks at the relationship between coaching\, mentoring and training. \nBy the end of this course delegates will have the skills to: \n\nDesign a coaching programme that can be adapted to training at any level.\nUse a structured approach to training design and delivery.\nHighlight the key teaching and learning points of the session and train to achieve those objectives.\nOrganise the logistics of a coaching session.\nDeliver the training in a credible and creative way.\nEnsure the training is interactive and interesting.\nGain feedback to evaluate the training’s progress.\nEvaluate the effectiveness of the skills and strategies taught.\nEnable effective follow-thorough by use of post training templates\n\n Full Course Details
URL:https://www.totalsuccess.co.uk/course/coaching-for-managers-live-virtual-remote-training-1-day-cpd-accredited-10/
LOCATION:Zoom virtual meeting\, London\, United Kingdom
CATEGORIES:Coaching for Managers - 1 Day,People Management
ATTACH;FMTTYPE=image/png:https://www.totalsuccess.co.uk/wp-content/uploads/2018/04/TS_HandTree.png
END:VEVENT
BEGIN:VEVENT
DTSTART;TZID=UTC:20261006T093000
DTEND;TZID=UTC:20261006T160000
DTSTAMP:20260424T144105
CREATED:20211217T121554Z
LAST-MODIFIED:20260324T072720Z
UID:13627-1791279000-1791302400@www.totalsuccess.co.uk
SUMMARY:Coaching for Managers – 1 day - CPD Accredited - Face to Face Training Course
DESCRIPTION:Our ‘Coaching for Managers’ one-day course will show delegates tried and tested methods about 1-2-1 training; executive coaching and how to develop people in order to improve productivity and motivation. We explain through discussion\, role-play and case study how to coach staff to achieve the impossible in terms of team development and business performance. \nIt will also show them how to plan\, prepare and implement a coaching programme for induction courses and how to evaluate its success. It also looks at the relationship between coaching\, mentoring and training. \nIt will also show them how to plan\, prepare and implement a coaching programme for induction courses and how to evaluate its success. It also looks at the relationship between coaching\, mentoring and training. \nBy the end of this course delegates will have the skills to: \n\nDesign a coaching programme that can be adapted to training at any level.\nUse a structured approach to coaching design and delivery.\nHighlight the key teaching and learning points of the session and train to achieve those objectives.\nOrganise the logistics of a coaching session.\nDeliver the coaching in a credible and creative way.\nEnsure the coaching is interactive and interesting.\nGain feedback to evaluate the training’s progress.\nEvaluate the effectiveness of the skills and strategies taught.\nEnable effective follow-thorough by use of post training templates\n\n  \n Full Course Details
URL:https://www.totalsuccess.co.uk/course/coaching-for-managers-1-day-cpd-accredited-face-to-face-training-course-9/
LOCATION:The Whitechapel Building\, 10 Whitechapel High St\, London\, E1 8QS\, 150 Minories\, London\, EC3N 1LS\, United Kingdom
CATEGORIES:Coaching for Managers - 1 Day,People Management
ATTACH;FMTTYPE=image/png:https://www.totalsuccess.co.uk/wp-content/uploads/2018/04/TS_HandTree.png
GEO:51.5178676;-0.1300681
X-APPLE-STRUCTURED-LOCATION;VALUE=URI;X-ADDRESS=The Whitechapel Building 10 Whitechapel High St London E1 8QS 150 Minories London EC3N 1LS United Kingdom;X-APPLE-RADIUS=500;X-TITLE=150 Minories:geo:-0.1300681,51.5178676
END:VEVENT
BEGIN:VEVENT
DTSTART;TZID=UTC:20261204T093000
DTEND;TZID=UTC:20261204T153000
DTSTAMP:20260424T144105
CREATED:20240918T111251Z
LAST-MODIFIED:20260324T072940Z
UID:16340-1796376600-1796398200@www.totalsuccess.co.uk
SUMMARY:Coaching for Managers – Live Virtual Remote Training - 1 Day - CPD Accredited
DESCRIPTION:Our ‘Coaching for Managers’ one-day course will show delegates tried and tested methods about 1-2-1 training; executive coaching and how to develop people in order to improve productivity and motivation. We explain through discussion\, role-play and case study how to coach staff to achieve the impossible in terms of team development and business performance. \nIt will also show them how to plan\, prepare and implement a coaching programme for induction courses and how to evaluate its success. It also looks at the relationship between coaching\, mentoring and training. \nBy the end of this course delegates will have the skills to: \n\nDesign a coaching programme that can be adapted to training at any level.\nUse a structured approach to training design and delivery.\nHighlight the key teaching and learning points of the session and train to achieve those objectives.\nOrganise the logistics of a coaching session.\nDeliver the training in a credible and creative way.\nEnsure the training is interactive and interesting.\nGain feedback to evaluate the training’s progress.\nEvaluate the effectiveness of the skills and strategies taught.\nEnable effective follow-thorough by use of post training templates\n\n Full Course Details
URL:https://www.totalsuccess.co.uk/course/coaching-for-managers-live-virtual-remote-training-1-day-cpd-accredited-24/
LOCATION:Zoom virtual meeting\, London\, United Kingdom
CATEGORIES:Coaching for Managers - 1 Day,People Management
ATTACH;FMTTYPE=image/png:https://www.totalsuccess.co.uk/wp-content/uploads/2018/04/TS_HandTree.png
END:VEVENT
END:VCALENDAR