BEGIN:VCALENDAR
VERSION:2.0
PRODID:-//Total Success Training - ECPv6.15.18//NONSGML v1.0//EN
CALSCALE:GREGORIAN
METHOD:PUBLISH
X-WR-CALNAME:Total Success Training
X-ORIGINAL-URL:https://www.totalsuccess.co.uk
X-WR-CALDESC:Events for Total Success Training
REFRESH-INTERVAL;VALUE=DURATION:PT1H
X-Robots-Tag:noindex
X-PUBLISHED-TTL:PT1H
BEGIN:VTIMEZONE
TZID:UTC
BEGIN:STANDARD
TZOFFSETFROM:+0000
TZOFFSETTO:+0000
TZNAME:UTC
DTSTART:20250101T000000
END:STANDARD
END:VTIMEZONE
BEGIN:VEVENT
DTSTART;TZID=UTC:20260602T093000
DTEND;TZID=UTC:20260602T153000
DTSTAMP:20260419T191938
CREATED:20230510T123246Z
LAST-MODIFIED:20251021T085329Z
UID:15014-1780392600-1780414200@www.totalsuccess.co.uk
SUMMARY:Email and Letter Writing – 1 day - CPD accredited - Live virtual course
DESCRIPTION:Our email writing course will allow delegates to gain useful letter writing tools\, tips and techniques and also includes constructive email and letter templates. This productive course will  demonstrate the particulars of writing effective emails\, whilst improving punctuation and grammar. \nLive Remote Virtual Course \nThis course will be run virtually via Zoom.com. \nThe course will start at 9.45 for registration and pre-course work assignments. \nTimings:       9.45-10.00 Log in and system check \n10.00-12.30 Morning \n1.00-3.30 Afternoon \nThe course will be hosted on Zoom.com and once you have booked we will send the following files: \n\nPre-course file with all log in details and pre-course assignments. Please complete this form and send back to us prior to the course to info@totalsuccess.co.uk. It includes course objectives and agenda that we will run through with you during the Introduction\nThe handouts we will be using on the course.\nA course manual that can be downloaded for reference during the seminar. You don’t have to print the manual but please download it as we will refer to it on the day\nA full set of the activities you’ll be doing on the course. These can be completed before the course\, but this is not essential\nA link to zoom.com with all the information needed to access the programme via your computer\nA post-course action plan and course evaluation form. This will be completed as proof of attending. A copy should also be sent to us. This is in the Handouts email.\n\nPlease ensure you download the zoom.com app on your computer and check that it works prior to log in as it takes about 30 mins to set up the free account. \n Full Course Details
URL:https://www.totalsuccess.co.uk/course/email-and-letter-writing-1-day-cpd-accredited-live-virtual-course-20/
LOCATION:Zoom virtual meeting\, London\, United Kingdom
CATEGORIES:Letter and Report Writing - 1 Day,Presentation and Writing Skills
ATTACH;FMTTYPE=image/png:https://www.totalsuccess.co.uk/wp-content/uploads/2018/04/TS_HandTree.png
END:VEVENT
BEGIN:VEVENT
DTSTART;TZID=UTC:20260609T093000
DTEND;TZID=UTC:20260609T153000
DTSTAMP:20260419T191938
CREATED:20210108T193619Z
LAST-MODIFIED:20251021T150516Z
UID:12435-1780997400-1781019000@www.totalsuccess.co.uk
SUMMARY:Letter\, Email and Report Writing – 1 day - CPD accredited course - Live virtual course
DESCRIPTION:Our letter\, email and report writing course will allow delegates to gain useful letter writing tools\, tips and techniques and also includes constructive letters\, emails and report templates. This productive course will also demonstrate the particulars of writing effective emails\, whilst improving punctuation and grammar. \nIt is tailored to the needs of delegates who already have business writing skills and those who would like to gain further knowledge on: \n\nhow to write a good report\nhow to write effective letters and emails\nhow to write professionally\nhow to write confidently\nhow to write a standard letter\nhow to write a formal report\nhow to respond to a complaint letter\n\n Full Course Details
URL:https://www.totalsuccess.co.uk/course/letter-email-and-report-writing-1-day-cpd-accredited-course-8/
LOCATION:Zoom virtual meeting\, London\, United Kingdom
CATEGORIES:Letter and Report Writing - 1 Day,Presentation and Writing Skills
ATTACH;FMTTYPE=image/png:https://www.totalsuccess.co.uk/wp-content/uploads/2018/04/TS_HandTree.png
END:VEVENT
BEGIN:VEVENT
DTSTART;TZID=UTC:20260625T093000
DTEND;TZID=UTC:20260625T153000
DTSTAMP:20260419T191938
CREATED:20221030T201151Z
LAST-MODIFIED:20260329T181554Z
UID:14326-1782379800-1782401400@www.totalsuccess.co.uk
SUMMARY:High Impact Writing Skills - 1 day training course - Live Remote Virtual Training
DESCRIPTION:This high impact writing course focuses on the effect effective writing can make on performance and productivity at work. Although effective writing is an important part of the modern business\, few employees receive help with documents or writing guidance. Many employees admit that they feel insecure about their composition\, structure and writing skills. This course is designed to teach practical skills and enable all delegates to be both competent and confident in their ability to write all types of document to clients\, directors and senior managers. \nCourse contents and agenda – 9.30am-3.30pm  \nBy the end of this part of the course\, participants will be able to: \n\nWrite powerful correspondence that both influences and persuades\nDescribe the key steps involved in the preparation of an email or letter\nStructure a document in a logical sequence\nWrite an interesting and persuasive email or letter\n\nLive Remote Virtual Course \nThis course will be run virtually via Zoom.com. \nThe course will start at 9.45 for registration and pre-course work assignments. \nTimings:       9.45-10.00 Log in and system check \n10.00-12.30 Morning \n1.00-3.30 Afternoon \nThe course will be hosted on Zoom.com and once you have booked we will send the following files: \n\nPre-course file with all log in details and pre-course assignments. Please complete this form and send back to us prior to the course to info@totalsuccess.co.uk. It includes course objectives and agenda that we will run through with you during the Introduction\nThe handouts we will be using on the course.\nA course manual that can be downloaded for reference during the seminar. You don’t have to print the manual but please download it as we will refer to it on the day\nA full set of the activities you’ll be doing on the course. These can be completed before the course\, but this is not essential\nA link to zoom.com with all the information needed to access the programme via your computer\nA post-course action plan and course evaluation form. This will be completed as proof of attending. A copy should also be sent to us. This is in the Handouts email.\n\nPlease ensure you download the zoom.com app on your computer and check that it works prior to log in as it takes about 30 mins to set up the free account.
URL:https://www.totalsuccess.co.uk/course/high-impact-writing-skills-1-day-training-course-live-remote-virtual-training-6/
LOCATION:Zoom virtual meeting\, London\, United Kingdom
CATEGORIES:High Impact Writing Skills,Letter and Report Writing - 1 Day
END:VEVENT
END:VCALENDAR