BEGIN:VCALENDAR
VERSION:2.0
PRODID:-//Total Success Training - ECPv6.15.18//NONSGML v1.0//EN
CALSCALE:GREGORIAN
METHOD:PUBLISH
X-ORIGINAL-URL:https://www.totalsuccess.co.uk
X-WR-CALDESC:Events for Total Success Training
REFRESH-INTERVAL;VALUE=DURATION:PT1H
X-Robots-Tag:noindex
X-PUBLISHED-TTL:PT1H
BEGIN:VTIMEZONE
TZID:UTC
BEGIN:STANDARD
TZOFFSETFROM:+0000
TZOFFSETTO:+0000
TZNAME:UTC
DTSTART:20220101T000000
END:STANDARD
END:VTIMEZONE
BEGIN:VEVENT
DTSTART;TZID=UTC:20230327T093000
DTEND;TZID=UTC:20230327T160000
DTSTAMP:20260421T165643
CREATED:20210113T190449Z
LAST-MODIFIED:20221220T215920Z
UID:12789-1679909400-1679932800@www.totalsuccess.co.uk
SUMMARY:Presentation Skills 1 day - CPD accredited training - Open Face to Face Workshop
DESCRIPTION:Excellent presentation skills give you a platform to demonstrate your sales skills\, leadership qualities\, communication skills\, influencing abilities and promotion potential. This one-day CPD accredited training course teaches you the skills and techniques that will give you both the confidence and competence to enjoy making presentations in all situations. We will be giving action points to sharpen your image; reduce nerves; allow you to appear both confident and competent and increase your credibility in the eyes of colleagues and clients. \n Full Course Details
URL:https://www.totalsuccess.co.uk/course/presentation-skills-1-day-cpd-accredited-training-4/
LOCATION:The Whitechapel Building\, 10 Whitechapel High St\, London\, E1 8QS\, 150 Minories\, London\, EC3N 1LS\, United Kingdom
CATEGORIES:Presentation and Writing Skills,Presentation Skills - 1 Day
ATTACH;FMTTYPE=image/png:https://www.totalsuccess.co.uk/wp-content/uploads/2018/04/TS_HandTree.png
GEO:51.5178676;-0.1300681
X-APPLE-STRUCTURED-LOCATION;VALUE=URI;X-ADDRESS=The Whitechapel Building 10 Whitechapel High St London E1 8QS 150 Minories London EC3N 1LS United Kingdom;X-APPLE-RADIUS=500;X-TITLE=150 Minories:geo:-0.1300681,51.5178676
END:VEVENT
END:VCALENDAR