BEGIN:VCALENDAR
VERSION:2.0
PRODID:-//Total Success Training - ECPv6.15.18//NONSGML v1.0//EN
CALSCALE:GREGORIAN
METHOD:PUBLISH
X-ORIGINAL-URL:https://www.totalsuccess.co.uk
X-WR-CALDESC:Events for Total Success Training
REFRESH-INTERVAL;VALUE=DURATION:PT1H
X-Robots-Tag:noindex
X-PUBLISHED-TTL:PT1H
BEGIN:VTIMEZONE
TZID:UTC
BEGIN:STANDARD
TZOFFSETFROM:+0000
TZOFFSETTO:+0000
TZNAME:UTC
DTSTART:20250101T000000
END:STANDARD
END:VTIMEZONE
BEGIN:VEVENT
DTSTART;TZID=UTC:20260319T093000
DTEND;TZID=UTC:20260319T153000
DTSTAMP:20260422T144153
CREATED:20240918T121632Z
LAST-MODIFIED:20251021T121931Z
UID:16360-1773912600-1773934200@www.totalsuccess.co.uk
SUMMARY:Introduction to Selling - Sales training course – 1 day live remote training
DESCRIPTION:This Introduction to Selling – Sales training course is a valuable foundation course that is highly structured\, interactive and focuses on bringing out the best of our delegates in a supportive environment. Most people possess the ability to sell and negotiate and our trainers use their 20 years of selling and training experience to increase the confidence and competence of potential sales ‘superstars’. \nThis one day course covers: \nSales planning; how to manage objections; communicating confidently; asking questions to uncover customer needs; keeping control of the call; selling benefits and making great appointments.  It is written with both the customer and the organisation in mind to maximise on potential sales. \nHow We Will Organise The Live Remote Course: \nIt couldn’t be easier as we take care of the whole process from start to finish. \nThe course will contain the same content as the face to face training but will start at 9.45 and finish at 3.30 (with 30 minutes for lunch) \n\nBook the course you require online\nWe will send out the course materials including downloadable course manual\, all of the course materials\, a pre-course briefing form\nWe will start log-ins 15 minutes prior to the course start to allow everyone to connect\nAll delegates will complete the pre-prepared course activities that we will use during the course\nOur virtual courses are very interactive to keep delegate’s attention throughout\nAll delegates will complete a Post-course action plan that can be reviewed their managers after the course.\n\n Full Course Details \n  \nLive Remote Virtual Course \nThis course will be run virtually via Zoom.com. \nThe course will start at 9.45 for registration and pre-course work assignments. \nTimings:       9.45-10.00 Log in and system check \n10.00-12.30 Morning \n1.00-3.30 Afternoon \nThe course will be hosted on Zoom.com and once you have booked we will send the following files: \n\nPre-course file with all log in details and pre-course assignments. Please complete this form and send back to us prior to the course to info@totalsuccess.co.uk. It includes course objectives and agenda that we will run through with you during the Introduction\nThe handouts we will be using on the course.\nA course manual that can be downloaded for reference during the seminar. You don’t have to print the manual but please download it as we will refer to it on the day\nA full set of the activities you’ll be doing on the course. These can be completed before the course\, but this is not essential\nA link to zoom.com with all the information needed to access the programme via your computer\nA post-course action plan and course evaluation form. This will be completed as proof of attending. A copy should also be sent to us. This is in the Handouts email.\n\nPlease ensure you download the zoom.com app on your computer and check that it works prior to log in as it takes about 30 mins to set up the free account. \n Full Course Details
URL:https://www.totalsuccess.co.uk/course/introduction-to-selling-sales-training-course-1-day-live-remote-training-20/
LOCATION:Zoom virtual meeting\, London\, United Kingdom
CATEGORIES:Introduction to Selling - 1 Day,Selling and Customer Service
ATTACH;FMTTYPE=image/png:https://www.totalsuccess.co.uk/wp-content/uploads/2018/04/TS_HandTree.png
END:VEVENT
END:VCALENDAR