BEGIN:VCALENDAR
VERSION:2.0
PRODID:-//Total Success Training - ECPv6.15.18//NONSGML v1.0//EN
CALSCALE:GREGORIAN
METHOD:PUBLISH
X-ORIGINAL-URL:https://www.totalsuccess.co.uk
X-WR-CALDESC:Events for Total Success Training
REFRESH-INTERVAL;VALUE=DURATION:PT1H
X-Robots-Tag:noindex
X-PUBLISHED-TTL:PT1H
BEGIN:VTIMEZONE
TZID:UTC
BEGIN:STANDARD
TZOFFSETFROM:+0000
TZOFFSETTO:+0000
TZNAME:UTC
DTSTART:20240101T000000
END:STANDARD
END:VTIMEZONE
BEGIN:VEVENT
DTSTART;TZID=UTC:20251216T093000
DTEND;TZID=UTC:20251216T160000
DTSTAMP:20260424T142835
CREATED:20230511T132214Z
LAST-MODIFIED:20250509T150048Z
UID:15209-1765877400-1765900800@www.totalsuccess.co.uk
SUMMARY:Negotiation Skills – CPD accredited - Face to Face 1 day training course
DESCRIPTION:Our 1 day CPD accredited Negotiation Training courses are designed to deliver vital negotiation skills\, tips and techniques to delegates who need new and different methods to improve and enhance their overall results when negotiating with colleagues\, staff members or clients. Our Negotiation skills workshops and seminars are based in London and are acknowledged for efficiently improving negotiation skills. We will cover: \n\nIdentifying objectives and all factors affecting negotiation\nUnderstanding the four phases of effective negotiations\nUnderstanding open and hidden agendas\nApproach\, planning and preparation\nEffective openings\nFocusing on outcomes not positions\nPlanning workable concessions and alternatives\nListening\, questioning and assertion skills\nCreating a ‘win-win’ situation\nBargaining skills\nDealing with objections and underhand tactics\n\n Full Course Details
URL:https://www.totalsuccess.co.uk/course/negotiation-skills-cpd-accredited-face-to-face-1-day-training-course-4/
LOCATION:The Whitechapel Building\, 10 Whitechapel High St\, London\, E1 8QS\, 150 Minories\, London\, EC3N 1LS\, United Kingdom
CATEGORIES:Negotiation Skills - 1 Day,Selling and Customer Service
ATTACH;FMTTYPE=image/png:https://www.totalsuccess.co.uk/wp-content/uploads/2018/04/TS_HandTree.png
GEO:51.5178676;-0.1300681
X-APPLE-STRUCTURED-LOCATION;VALUE=URI;X-ADDRESS=The Whitechapel Building 10 Whitechapel High St London E1 8QS 150 Minories London EC3N 1LS United Kingdom;X-APPLE-RADIUS=500;X-TITLE=150 Minories:geo:-0.1300681,51.5178676
END:VEVENT
END:VCALENDAR