BEGIN:VCALENDAR
VERSION:2.0
PRODID:-//Total Success Training - ECPv6.15.18//NONSGML v1.0//EN
CALSCALE:GREGORIAN
METHOD:PUBLISH
X-ORIGINAL-URL:https://www.totalsuccess.co.uk
X-WR-CALDESC:Events for Total Success Training
REFRESH-INTERVAL;VALUE=DURATION:PT1H
X-Robots-Tag:noindex
X-PUBLISHED-TTL:PT1H
BEGIN:VTIMEZONE
TZID:UTC
BEGIN:STANDARD
TZOFFSETFROM:+0000
TZOFFSETTO:+0000
TZNAME:UTC
DTSTART:20170101T000000
END:STANDARD
END:VTIMEZONE
BEGIN:VEVENT
DTSTART;TZID=UTC:20200212T093000
DTEND;TZID=UTC:20200212T173000
DTSTAMP:20260421T112306
CREATED:20191111T105153Z
LAST-MODIFIED:20191111T105153Z
UID:9742-1581499800-1581528600@www.totalsuccess.co.uk
SUMMARY:Negotiation Skills – 1 day
DESCRIPTION:Our Negotiation Training courses are designed to deliver vital negotiation skills\, tips and techniques to delegates who need new and different methods to improve and enhance their overall results when negotiating with colleagues\, staff members or clients. Our Negotiation skills workshops and seminars are based in London and are acknowledged for efficiently improving negotiation skills. \n Full Course Details
URL:https://www.totalsuccess.co.uk/course/negotiation-skills-1-day-15/
LOCATION:&Meetings\, 150 Minories\, London\, EC3N 1LS\, 150 Minories\, London\, EC3N 1LS\, United Kingdom
CATEGORIES:Negotiation Skills - 1 Day,Selling and Customer Service
ATTACH;FMTTYPE=image/png:https://www.totalsuccess.co.uk/wp-content/uploads/2018/04/TS_HandTree.png
GEO:51.5178676;-0.1300681
X-APPLE-STRUCTURED-LOCATION;VALUE=URI;X-ADDRESS=&Meetings 150 Minories London EC3N 1LS 150 Minories London EC3N 1LS United Kingdom;X-APPLE-RADIUS=500;X-TITLE=150 Minories:geo:-0.1300681,51.5178676
END:VEVENT
BEGIN:VEVENT
DTSTART;TZID=UTC:20200128T093000
DTEND;TZID=UTC:20200128T173000
DTSTAMP:20260421T112306
CREATED:20191111T105128Z
LAST-MODIFIED:20191111T105128Z
UID:9743-1580203800-1580232600@www.totalsuccess.co.uk
SUMMARY:Negotiation Skills – 1 day
DESCRIPTION:Our Negotiation Training courses are designed to deliver vital negotiation skills\, tips and techniques to delegates who need new and different methods to improve and enhance their overall results when negotiating with colleagues\, staff members or clients. Our Negotiation skills workshops and seminars are based in London and are acknowledged for efficiently improving negotiation skills. \n Full Course Details
URL:https://www.totalsuccess.co.uk/course/negotiation-skills-1-day-14/
LOCATION:&Meetings\, 150 Minories\, London\, EC3N 1LS\, 150 Minories\, London\, EC3N 1LS\, United Kingdom
CATEGORIES:Negotiation Skills - 1 Day,Selling and Customer Service
ATTACH;FMTTYPE=image/png:https://www.totalsuccess.co.uk/wp-content/uploads/2018/04/TS_HandTree.png
GEO:51.5178676;-0.1300681
X-APPLE-STRUCTURED-LOCATION;VALUE=URI;X-ADDRESS=&Meetings 150 Minories London EC3N 1LS 150 Minories London EC3N 1LS United Kingdom;X-APPLE-RADIUS=500;X-TITLE=150 Minories:geo:-0.1300681,51.5178676
END:VEVENT
BEGIN:VEVENT
DTSTART;TZID=UTC:20200115T093000
DTEND;TZID=UTC:20200115T173000
DTSTAMP:20260421T112306
CREATED:20191111T105112Z
LAST-MODIFIED:20191111T105112Z
UID:9741-1579080600-1579109400@www.totalsuccess.co.uk
SUMMARY:Negotiation Skills – 1 day
DESCRIPTION:Our Negotiation Training courses are designed to deliver vital negotiation skills\, tips and techniques to delegates who need new and different methods to improve and enhance their overall results when negotiating with colleagues\, staff members or clients. Our Negotiation skills workshops and seminars are based in London and are acknowledged for efficiently improving negotiation skills. \n Full Course Details
URL:https://www.totalsuccess.co.uk/course/negotiation-skills-1-day-13/
LOCATION:&Meetings\, 150 Minories\, London\, EC3N 1LS\, 150 Minories\, London\, EC3N 1LS\, United Kingdom
CATEGORIES:Negotiation Skills - 1 Day,Selling and Customer Service
ATTACH;FMTTYPE=image/png:https://www.totalsuccess.co.uk/wp-content/uploads/2018/04/TS_HandTree.png
GEO:51.5178676;-0.1300681
X-APPLE-STRUCTURED-LOCATION;VALUE=URI;X-ADDRESS=&Meetings 150 Minories London EC3N 1LS 150 Minories London EC3N 1LS United Kingdom;X-APPLE-RADIUS=500;X-TITLE=150 Minories:geo:-0.1300681,51.5178676
END:VEVENT
BEGIN:VEVENT
DTSTART;TZID=UTC:20191231T093000
DTEND;TZID=UTC:20191231T173000
DTSTAMP:20260421T112306
CREATED:20191111T105047Z
LAST-MODIFIED:20191111T105047Z
UID:9740-1577784600-1577813400@www.totalsuccess.co.uk
SUMMARY:Negotiation Skills – 1 day
DESCRIPTION:Our Negotiation Training courses are designed to deliver vital negotiation skills\, tips and techniques to delegates who need new and different methods to improve and enhance their overall results when negotiating with colleagues\, staff members or clients. Our Negotiation skills workshops and seminars are based in London and are acknowledged for efficiently improving negotiation skills. \n Full Course Details
URL:https://www.totalsuccess.co.uk/course/negotiation-skills-1-day-12/
LOCATION:&Meetings\, 150 Minories\, London\, EC3N 1LS\, 150 Minories\, London\, EC3N 1LS\, United Kingdom
CATEGORIES:Negotiation Skills - 1 Day,Selling and Customer Service
ATTACH;FMTTYPE=image/png:https://www.totalsuccess.co.uk/wp-content/uploads/2018/04/TS_HandTree.png
GEO:51.5178676;-0.1300681
X-APPLE-STRUCTURED-LOCATION;VALUE=URI;X-ADDRESS=&Meetings 150 Minories London EC3N 1LS 150 Minories London EC3N 1LS United Kingdom;X-APPLE-RADIUS=500;X-TITLE=150 Minories:geo:-0.1300681,51.5178676
END:VEVENT
BEGIN:VEVENT
DTSTART;TZID=UTC:20191218T093000
DTEND;TZID=UTC:20191218T173000
DTSTAMP:20260421T112306
CREATED:20190627T151717Z
LAST-MODIFIED:20190627T151717Z
UID:9039-1576661400-1576690200@www.totalsuccess.co.uk
SUMMARY:Negotiation Skills – 1 day
DESCRIPTION:Our Negotiation Training courses are designed to deliver vital negotiation skills\, tips and techniques to delegates who need new and different methods to improve and enhance their overall results when negotiating with colleagues\, staff members or clients. Our Negotiation skills workshops and seminars are based in London and are acknowledged for efficiently improving negotiation skills. \n Full Course Details
URL:https://www.totalsuccess.co.uk/course/negotiation-skills-1-day-11/
LOCATION:&Meetings\, 150 Minories\, London\, EC3N 1LS\, 150 Minories\, London\, EC3N 1LS\, United Kingdom
CATEGORIES:Negotiation Skills - 1 Day,Selling and Customer Service
ATTACH;FMTTYPE=image/png:https://www.totalsuccess.co.uk/wp-content/uploads/2018/04/TS_HandTree.png
GEO:51.5178676;-0.1300681
X-APPLE-STRUCTURED-LOCATION;VALUE=URI;X-ADDRESS=&Meetings 150 Minories London EC3N 1LS 150 Minories London EC3N 1LS United Kingdom;X-APPLE-RADIUS=500;X-TITLE=150 Minories:geo:-0.1300681,51.5178676
END:VEVENT
BEGIN:VEVENT
DTSTART;TZID=UTC:20191202T093000
DTEND;TZID=UTC:20191202T173000
DTSTAMP:20260421T112306
CREATED:20190627T145202Z
LAST-MODIFIED:20191119T163550Z
UID:8985-1575279000-1575307800@www.totalsuccess.co.uk
SUMMARY:Negotiation Skills – 1 day
DESCRIPTION:Our Negotiation Training courses are designed to deliver vital negotiation skills\, tips and techniques to delegates who need new and different methods to improve and enhance their overall results when negotiating with colleagues\, staff members or clients. Our Negotiation skills workshops and seminars are based in London and are acknowledged for efficiently improving negotiation skills. \n Full Course Details
URL:https://www.totalsuccess.co.uk/course/negotiation-skills-1-day-10/
LOCATION:&Meetings\, 150 Minories\, London\, EC3N 1LS\, 150 Minories\, London\, EC3N 1LS\, United Kingdom
CATEGORIES:Negotiation Skills - 1 Day,Selling and Customer Service
ATTACH;FMTTYPE=image/png:https://www.totalsuccess.co.uk/wp-content/uploads/2018/04/TS_HandTree.png
GEO:51.5178676;-0.1300681
X-APPLE-STRUCTURED-LOCATION;VALUE=URI;X-ADDRESS=&Meetings 150 Minories London EC3N 1LS 150 Minories London EC3N 1LS United Kingdom;X-APPLE-RADIUS=500;X-TITLE=150 Minories:geo:-0.1300681,51.5178676
END:VEVENT
BEGIN:VEVENT
DTSTART;TZID=UTC:20191120T093000
DTEND;TZID=UTC:20191120T173000
DTSTAMP:20260421T112306
CREATED:20190520T113949Z
LAST-MODIFIED:20190520T113949Z
UID:8898-1574242200-1574271000@www.totalsuccess.co.uk
SUMMARY:Negotiation Skills – 1 day
DESCRIPTION:Our Negotiation Training courses are designed to deliver vital negotiation skills\, tips and techniques to delegates who need new and different methods to improve and enhance their overall results when negotiating with colleagues\, staff members or clients. Our Negotiation skills workshops and seminars are based in London and are acknowledged for efficiently improving negotiation skills. \n Full Course Details
URL:https://www.totalsuccess.co.uk/course/negotiation-skills-1-day-9/
LOCATION:&Meetings\, 150 Minories\, London\, EC3N 1LS\, 150 Minories\, London\, EC3N 1LS\, United Kingdom
CATEGORIES:Negotiation Skills - 1 Day,Selling and Customer Service
ATTACH;FMTTYPE=image/png:https://www.totalsuccess.co.uk/wp-content/uploads/2018/04/TS_HandTree.png
GEO:51.5178676;-0.1300681
X-APPLE-STRUCTURED-LOCATION;VALUE=URI;X-ADDRESS=&Meetings 150 Minories London EC3N 1LS 150 Minories London EC3N 1LS United Kingdom;X-APPLE-RADIUS=500;X-TITLE=150 Minories:geo:-0.1300681,51.5178676
END:VEVENT
BEGIN:VEVENT
DTSTART;TZID=UTC:20191105T093000
DTEND;TZID=UTC:20191105T173000
DTSTAMP:20260421T112306
CREATED:20190520T113929Z
LAST-MODIFIED:20190520T113929Z
UID:8899-1572946200-1572975000@www.totalsuccess.co.uk
SUMMARY:Negotiation Skills – 1 day
DESCRIPTION:Our Negotiation Training courses are designed to deliver vital negotiation skills\, tips and techniques to delegates who need new and different methods to improve and enhance their overall results when negotiating with colleagues\, staff members or clients. Our Negotiation skills workshops and seminars are based in London and are acknowledged for efficiently improving negotiation skills. \n Full Course Details
URL:https://www.totalsuccess.co.uk/course/negotiation-skills-1-day-8/
LOCATION:&Meetings\, 150 Minories\, London\, EC3N 1LS\, 150 Minories\, London\, EC3N 1LS\, United Kingdom
CATEGORIES:Negotiation Skills - 1 Day,Selling and Customer Service
ATTACH;FMTTYPE=image/png:https://www.totalsuccess.co.uk/wp-content/uploads/2018/04/TS_HandTree.png
GEO:51.5178676;-0.1300681
X-APPLE-STRUCTURED-LOCATION;VALUE=URI;X-ADDRESS=&Meetings 150 Minories London EC3N 1LS 150 Minories London EC3N 1LS United Kingdom;X-APPLE-RADIUS=500;X-TITLE=150 Minories:geo:-0.1300681,51.5178676
END:VEVENT
BEGIN:VEVENT
DTSTART;TZID=UTC:20191023T093000
DTEND;TZID=UTC:20191023T173000
DTSTAMP:20260421T112306
CREATED:20190520T113903Z
LAST-MODIFIED:20190520T113903Z
UID:8900-1571823000-1571851800@www.totalsuccess.co.uk
SUMMARY:Negotiation Skills – 1 day
DESCRIPTION:Our Negotiation Training courses are designed to deliver vital negotiation skills\, tips and techniques to delegates who need new and different methods to improve and enhance their overall results when negotiating with colleagues\, staff members or clients. Our Negotiation skills workshops and seminars are based in London and are acknowledged for efficiently improving negotiation skills. \n Full Course Details
URL:https://www.totalsuccess.co.uk/course/negotiation-skills-1-day-7/
LOCATION:&Meetings\, 150 Minories\, London\, EC3N 1LS\, 150 Minories\, London\, EC3N 1LS\, United Kingdom
CATEGORIES:Negotiation Skills - 1 Day,Selling and Customer Service
ATTACH;FMTTYPE=image/png:https://www.totalsuccess.co.uk/wp-content/uploads/2018/04/TS_HandTree.png
GEO:51.5178676;-0.1300681
X-APPLE-STRUCTURED-LOCATION;VALUE=URI;X-ADDRESS=&Meetings 150 Minories London EC3N 1LS 150 Minories London EC3N 1LS United Kingdom;X-APPLE-RADIUS=500;X-TITLE=150 Minories:geo:-0.1300681,51.5178676
END:VEVENT
BEGIN:VEVENT
DTSTART;TZID=UTC:20191008T093000
DTEND;TZID=UTC:20191008T173000
DTSTAMP:20260421T112306
CREATED:20190520T113841Z
LAST-MODIFIED:20190520T113841Z
UID:8902-1570527000-1570555800@www.totalsuccess.co.uk
SUMMARY:Negotiation Skills – 1 day
DESCRIPTION:Our Negotiation Training courses are designed to deliver vital negotiation skills\, tips and techniques to delegates who need new and different methods to improve and enhance their overall results when negotiating with colleagues\, staff members or clients. Our Negotiation skills workshops and seminars are based in London and are acknowledged for efficiently improving negotiation skills. \n Full Course Details
URL:https://www.totalsuccess.co.uk/course/negotiation-skills-1-day-6/
LOCATION:&Meetings\, 150 Minories\, London\, EC3N 1LS\, 150 Minories\, London\, EC3N 1LS\, United Kingdom
CATEGORIES:Negotiation Skills - 1 Day,Selling and Customer Service
ATTACH;FMTTYPE=image/png:https://www.totalsuccess.co.uk/wp-content/uploads/2018/04/TS_HandTree.png
GEO:51.5178676;-0.1300681
X-APPLE-STRUCTURED-LOCATION;VALUE=URI;X-ADDRESS=&Meetings 150 Minories London EC3N 1LS 150 Minories London EC3N 1LS United Kingdom;X-APPLE-RADIUS=500;X-TITLE=150 Minories:geo:-0.1300681,51.5178676
END:VEVENT
BEGIN:VEVENT
DTSTART;TZID=UTC:20190925T093000
DTEND;TZID=UTC:20190925T173000
DTSTAMP:20260421T112306
CREATED:20190520T113818Z
LAST-MODIFIED:20190520T113818Z
UID:8901-1569403800-1569432600@www.totalsuccess.co.uk
SUMMARY:Negotiation Skills – 1 day
DESCRIPTION:Our Negotiation Training courses are designed to deliver vital negotiation skills\, tips and techniques to delegates who need new and different methods to improve and enhance their overall results when negotiating with colleagues\, staff members or clients. Our Negotiation skills workshops and seminars are based in London and are acknowledged for efficiently improving negotiation skills. \n Full Course Details
URL:https://www.totalsuccess.co.uk/course/negotiation-skills-1-day-5/
LOCATION:&Meetings\, 150 Minories\, London\, EC3N 1LS\, 150 Minories\, London\, EC3N 1LS\, United Kingdom
CATEGORIES:Negotiation Skills - 1 Day,Selling and Customer Service
ATTACH;FMTTYPE=image/png:https://www.totalsuccess.co.uk/wp-content/uploads/2018/04/TS_HandTree.png
GEO:51.5178676;-0.1300681
X-APPLE-STRUCTURED-LOCATION;VALUE=URI;X-ADDRESS=&Meetings 150 Minories London EC3N 1LS 150 Minories London EC3N 1LS United Kingdom;X-APPLE-RADIUS=500;X-TITLE=150 Minories:geo:-0.1300681,51.5178676
END:VEVENT
BEGIN:VEVENT
DTSTART;TZID=UTC:20190910T093000
DTEND;TZID=UTC:20190910T173000
DTSTAMP:20260421T112306
CREATED:20190520T113756Z
LAST-MODIFIED:20190520T113756Z
UID:8897-1568107800-1568136600@www.totalsuccess.co.uk
SUMMARY:Negotiation Skills – 1 day
DESCRIPTION:Our Negotiation Training courses are designed to deliver vital negotiation skills\, tips and techniques to delegates who need new and different methods to improve and enhance their overall results when negotiating with colleagues\, staff members or clients. Our Negotiation skills workshops and seminars are based in London and are acknowledged for efficiently improving negotiation skills. \n Full Course Details
URL:https://www.totalsuccess.co.uk/course/negotiation-skills-1-day-4/
LOCATION:&Meetings\, 150 Minories\, London\, EC3N 1LS\, 150 Minories\, London\, EC3N 1LS\, United Kingdom
CATEGORIES:Negotiation Skills - 1 Day,Selling and Customer Service
ATTACH;FMTTYPE=image/png:https://www.totalsuccess.co.uk/wp-content/uploads/2018/04/TS_HandTree.png
GEO:51.5178676;-0.1300681
X-APPLE-STRUCTURED-LOCATION;VALUE=URI;X-ADDRESS=&Meetings 150 Minories London EC3N 1LS 150 Minories London EC3N 1LS United Kingdom;X-APPLE-RADIUS=500;X-TITLE=150 Minories:geo:-0.1300681,51.5178676
END:VEVENT
BEGIN:VEVENT
DTSTART;TZID=UTC:20190828T093000
DTEND;TZID=UTC:20190828T173000
DTSTAMP:20260421T112306
CREATED:20190517T140308Z
LAST-MODIFIED:20190517T140308Z
UID:8625-1566984600-1567013400@www.totalsuccess.co.uk
SUMMARY:Negotiation Skills – 1 day
DESCRIPTION:Our Negotiation Training courses are designed to deliver vital negotiation skills\, tips and techniques to delegates who need new and different methods to improve and enhance their overall results when negotiating with colleagues\, staff members or clients. Our Negotiation skills workshops and seminars are based in London and are acknowledged for efficiently improving negotiation skills. \n Full Course Details
URL:https://www.totalsuccess.co.uk/course/negotiation-skills-1-day-3/
LOCATION:&Meetings\, 150 Minories\, London\, EC3N 1LS\, 150 Minories\, London\, EC3N 1LS\, United Kingdom
CATEGORIES:Negotiation Skills - 1 Day,Selling and Customer Service
ATTACH;FMTTYPE=image/png:https://www.totalsuccess.co.uk/wp-content/uploads/2018/04/TS_HandTree.png
GEO:51.5178676;-0.1300681
X-APPLE-STRUCTURED-LOCATION;VALUE=URI;X-ADDRESS=&Meetings 150 Minories London EC3N 1LS 150 Minories London EC3N 1LS United Kingdom;X-APPLE-RADIUS=500;X-TITLE=150 Minories:geo:-0.1300681,51.5178676
END:VEVENT
BEGIN:VEVENT
DTSTART;TZID=UTC:20190731T093000
DTEND;TZID=UTC:20190731T173000
DTSTAMP:20260421T112306
CREATED:20190517T111146Z
LAST-MODIFIED:20190517T111146Z
UID:8523-1564565400-1564594200@www.totalsuccess.co.uk
SUMMARY:Negotiation Skills – 1 day
DESCRIPTION:Our Negotiation Training courses are designed to deliver vital negotiation skills\, tips and techniques to delegates who need new and different methods to improve and enhance their overall results when negotiating with colleagues\, staff members or clients. Our Negotiation skills workshops and seminars are based in London and are acknowledged for efficiently improving negotiation skills. \n Full Course Details
URL:https://www.totalsuccess.co.uk/course/negotiation-skills-1-day-2/
LOCATION:&Meetings\, 150 Minories\, London\, EC3N 1LS\, 150 Minories\, London\, EC3N 1LS\, United Kingdom
CATEGORIES:Negotiation Skills - 1 Day,Selling and Customer Service
ATTACH;FMTTYPE=image/png:https://www.totalsuccess.co.uk/wp-content/uploads/2018/04/TS_HandTree.png
GEO:51.5178676;-0.1300681
X-APPLE-STRUCTURED-LOCATION;VALUE=URI;X-ADDRESS=&Meetings 150 Minories London EC3N 1LS 150 Minories London EC3N 1LS United Kingdom;X-APPLE-RADIUS=500;X-TITLE=150 Minories:geo:-0.1300681,51.5178676
END:VEVENT
BEGIN:VEVENT
DTSTART;TZID=UTC:20190703T093000
DTEND;TZID=UTC:20190703T173000
DTSTAMP:20260421T112306
CREATED:20190517T092912Z
LAST-MODIFIED:20190517T092912Z
UID:8419-1562146200-1562175000@www.totalsuccess.co.uk
SUMMARY:Negotiation Skills – 1 day
DESCRIPTION:Our Negotiation Training courses are designed to deliver vital negotiation skills\, tips and techniques to delegates who need new and different methods to improve and enhance their overall results when negotiating with colleagues\, staff members or clients. Our Negotiation skills workshops and seminars are based in London and are acknowledged for efficiently improving negotiation skills. \n Full Course Details
URL:https://www.totalsuccess.co.uk/course/negotiation-skills-1-day/
LOCATION:&Meetings\, 150 Minories\, London\, EC3N 1LS\, 150 Minories\, London\, EC3N 1LS\, United Kingdom
CATEGORIES:Negotiation Skills - 1 Day,Selling and Customer Service
ATTACH;FMTTYPE=image/png:https://www.totalsuccess.co.uk/wp-content/uploads/2018/04/TS_HandTree.png
GEO:51.5178676;-0.1300681
X-APPLE-STRUCTURED-LOCATION;VALUE=URI;X-ADDRESS=&Meetings 150 Minories London EC3N 1LS 150 Minories London EC3N 1LS United Kingdom;X-APPLE-RADIUS=500;X-TITLE=150 Minories:geo:-0.1300681,51.5178676
END:VEVENT
BEGIN:VEVENT
DTSTART;TZID=UTC:20190612T093000
DTEND;TZID=UTC:20190612T173000
DTSTAMP:20260421T112306
CREATED:20180425T121841Z
LAST-MODIFIED:20190118T151047Z
UID:7740-1560331800-1560360600@www.totalsuccess.co.uk
SUMMARY:Negotiation Skills – 1 day
DESCRIPTION:Our Negotiation Training courses are designed to deliver vital negotiation skills\, tips and techniques to delegates who need new and different methods to improve and enhance their overall results when negotiating with colleagues\, staff members or clients. Our Negotiation skills workshops and seminars are based in London and are acknowledged for efficiently improving negotiation skills. \n Full Course Details
URL:https://www.totalsuccess.co.uk/course/negotiation-skills-1-day-3-2019-01-30-2019-06-12/
LOCATION:&Meetings\, 150 Minories\, London\, EC3N 1LS\, 150 Minories\, London\, EC3N 1LS\, United Kingdom
CATEGORIES:Negotiation Skills - 1 Day,Selling and Customer Service
ATTACH;FMTTYPE=image/png:https://www.totalsuccess.co.uk/wp-content/uploads/2018/04/TS_HandTree.png
GEO:51.5178676;-0.1300681
X-APPLE-STRUCTURED-LOCATION;VALUE=URI;X-ADDRESS=&Meetings 150 Minories London EC3N 1LS 150 Minories London EC3N 1LS United Kingdom;X-APPLE-RADIUS=500;X-TITLE=150 Minories:geo:-0.1300681,51.5178676
END:VEVENT
BEGIN:VEVENT
DTSTART;TZID=UTC:20190515T093000
DTEND;TZID=UTC:20190515T173000
DTSTAMP:20260421T112306
CREATED:20180425T121841Z
LAST-MODIFIED:20190118T151025Z
UID:7739-1557912600-1557941400@www.totalsuccess.co.uk
SUMMARY:Negotiation Skills – 1 day
DESCRIPTION:Our Negotiation Training courses are designed to deliver vital negotiation skills\, tips and techniques to delegates who need new and different methods to improve and enhance their overall results when negotiating with colleagues\, staff members or clients. Our Negotiation skills workshops and seminars are based in London and are acknowledged for efficiently improving negotiation skills. \n Full Course Details
URL:https://www.totalsuccess.co.uk/course/negotiation-skills-1-day-3-2019-01-30-2019-05-15/
LOCATION:&Meetings\, 150 Minories\, London\, EC3N 1LS\, 150 Minories\, London\, EC3N 1LS\, United Kingdom
CATEGORIES:Negotiation Skills - 1 Day,Selling and Customer Service
ATTACH;FMTTYPE=image/png:https://www.totalsuccess.co.uk/wp-content/uploads/2018/04/TS_HandTree.png
GEO:51.5178676;-0.1300681
X-APPLE-STRUCTURED-LOCATION;VALUE=URI;X-ADDRESS=&Meetings 150 Minories London EC3N 1LS 150 Minories London EC3N 1LS United Kingdom;X-APPLE-RADIUS=500;X-TITLE=150 Minories:geo:-0.1300681,51.5178676
END:VEVENT
BEGIN:VEVENT
DTSTART;TZID=UTC:20190417T093000
DTEND;TZID=UTC:20190417T173000
DTSTAMP:20260421T112306
CREATED:20180425T121841Z
LAST-MODIFIED:20190118T150933Z
UID:7738-1555493400-1555522200@www.totalsuccess.co.uk
SUMMARY:Negotiation Skills – 1 day
DESCRIPTION:Our Negotiation Training courses are designed to deliver vital negotiation skills\, tips and techniques to delegates who need new and different methods to improve and enhance their overall results when negotiating with colleagues\, staff members or clients. Our Negotiation skills workshops and seminars are based in London and are acknowledged for efficiently improving negotiation skills. \n Full Course Details
URL:https://www.totalsuccess.co.uk/course/negotiation-skills-1-day-3-2019-01-30-2019-04-17/
LOCATION:&Meetings\, 150 Minories\, London\, EC3N 1LS\, 150 Minories\, London\, EC3N 1LS\, United Kingdom
CATEGORIES:Negotiation Skills - 1 Day,Selling and Customer Service
ATTACH;FMTTYPE=image/png:https://www.totalsuccess.co.uk/wp-content/uploads/2018/04/TS_HandTree.png
GEO:51.5178676;-0.1300681
X-APPLE-STRUCTURED-LOCATION;VALUE=URI;X-ADDRESS=&Meetings 150 Minories London EC3N 1LS 150 Minories London EC3N 1LS United Kingdom;X-APPLE-RADIUS=500;X-TITLE=150 Minories:geo:-0.1300681,51.5178676
END:VEVENT
BEGIN:VEVENT
DTSTART;TZID=UTC:20190320T093000
DTEND;TZID=UTC:20190320T173000
DTSTAMP:20260421T112306
CREATED:20180425T121841Z
LAST-MODIFIED:20190118T150835Z
UID:7737-1553074200-1553103000@www.totalsuccess.co.uk
SUMMARY:Negotiation Skills – 1 day
DESCRIPTION:Our Negotiation Training courses are designed to deliver vital negotiation skills\, tips and techniques to delegates who need new and different methods to improve and enhance their overall results when negotiating with colleagues\, staff members or clients. Our Negotiation skills workshops and seminars are based in London and are acknowledged for efficiently improving negotiation skills. \n Full Course Details
URL:https://www.totalsuccess.co.uk/course/negotiation-skills-1-day-3-2019-01-30-2019-03-20/
LOCATION:&Meetings\, 150 Minories\, London\, EC3N 1LS\, 150 Minories\, London\, EC3N 1LS\, United Kingdom
CATEGORIES:Negotiation Skills - 1 Day,Selling and Customer Service
ATTACH;FMTTYPE=image/png:https://www.totalsuccess.co.uk/wp-content/uploads/2018/04/TS_HandTree.png
GEO:51.5178676;-0.1300681
X-APPLE-STRUCTURED-LOCATION;VALUE=URI;X-ADDRESS=&Meetings 150 Minories London EC3N 1LS 150 Minories London EC3N 1LS United Kingdom;X-APPLE-RADIUS=500;X-TITLE=150 Minories:geo:-0.1300681,51.5178676
END:VEVENT
BEGIN:VEVENT
DTSTART;TZID=UTC:20190220T093000
DTEND;TZID=UTC:20190220T173000
DTSTAMP:20260421T112306
CREATED:20180425T121841Z
LAST-MODIFIED:20190118T150754Z
UID:7736-1550655000-1550683800@www.totalsuccess.co.uk
SUMMARY:Negotiation Skills – 1 day
DESCRIPTION:Our Negotiation Training courses are designed to deliver vital negotiation skills\, tips and techniques to delegates who need new and different methods to improve and enhance their overall results when negotiating with colleagues\, staff members or clients. Our Negotiation skills workshops and seminars are based in London and are acknowledged for efficiently improving negotiation skills. \n Full Course Details
URL:https://www.totalsuccess.co.uk/course/negotiation-skills-1-day-3-2019-01-30-2019-02-20/
LOCATION:&Meetings\, 150 Minories\, London\, EC3N 1LS\, 150 Minories\, London\, EC3N 1LS\, United Kingdom
CATEGORIES:Negotiation Skills - 1 Day,Selling and Customer Service
ATTACH;FMTTYPE=image/png:https://www.totalsuccess.co.uk/wp-content/uploads/2018/04/TS_HandTree.png
GEO:51.5178676;-0.1300681
X-APPLE-STRUCTURED-LOCATION;VALUE=URI;X-ADDRESS=&Meetings 150 Minories London EC3N 1LS 150 Minories London EC3N 1LS United Kingdom;X-APPLE-RADIUS=500;X-TITLE=150 Minories:geo:-0.1300681,51.5178676
END:VEVENT
BEGIN:VEVENT
DTSTART;TZID=UTC:20190130T093000
DTEND;TZID=UTC:20190130T173000
DTSTAMP:20260421T112306
CREATED:20180425T121841Z
LAST-MODIFIED:20190118T150729Z
UID:7087-1548840600-1548869400@www.totalsuccess.co.uk
SUMMARY:Negotiation Skills – 1 day
DESCRIPTION:Our Negotiation Training courses are designed to deliver vital negotiation skills\, tips and techniques to delegates who need new and different methods to improve and enhance their overall results when negotiating with colleagues\, staff members or clients. Our Negotiation skills workshops and seminars are based in London and are acknowledged for efficiently improving negotiation skills. \n Full Course Details
URL:https://www.totalsuccess.co.uk/course/negotiation-skills-1-day-3-2019-01-30/
LOCATION:&Meetings\, 150 Minories\, London\, EC3N 1LS\, 150 Minories\, London\, EC3N 1LS\, United Kingdom
CATEGORIES:Negotiation Skills - 1 Day,Selling and Customer Service
ATTACH;FMTTYPE=image/png:https://www.totalsuccess.co.uk/wp-content/uploads/2018/04/TS_HandTree.png
GEO:51.5178676;-0.1300681
X-APPLE-STRUCTURED-LOCATION;VALUE=URI;X-ADDRESS=&Meetings 150 Minories London EC3N 1LS 150 Minories London EC3N 1LS United Kingdom;X-APPLE-RADIUS=500;X-TITLE=150 Minories:geo:-0.1300681,51.5178676
END:VEVENT
BEGIN:VEVENT
DTSTART;TZID=UTC:20181204T093000
DTEND;TZID=UTC:20181204T173000
DTSTAMP:20260421T112306
CREATED:20180425T121841Z
LAST-MODIFIED:20180803T105733Z
UID:7086-1543915800-1543944600@www.totalsuccess.co.uk
SUMMARY:Negotiation Skills – 1 day
DESCRIPTION:Our Negotiation Training courses are designed to deliver vital negotiation skills\, tips and techniques to delegates who need new and different methods to improve and enhance their overall results when negotiating with colleagues\, staff members or clients. Our Negotiation skills workshops and seminars are based in London and are acknowledged for efficiently improving negotiation skills. \n Full Course Details
URL:https://www.totalsuccess.co.uk/course/negotiation-skills-1-day-3-2018-12-04/
LOCATION:&Meetings\, 150 Minories\, London\, EC3N 1LS\, 150 Minories\, London\, EC3N 1LS\, United Kingdom
CATEGORIES:Negotiation Skills - 1 Day,Selling and Customer Service
ATTACH;FMTTYPE=image/png:https://www.totalsuccess.co.uk/wp-content/uploads/2018/04/TS_HandTree.png
GEO:51.5178676;-0.1300681
X-APPLE-STRUCTURED-LOCATION;VALUE=URI;X-ADDRESS=&Meetings 150 Minories London EC3N 1LS 150 Minories London EC3N 1LS United Kingdom;X-APPLE-RADIUS=500;X-TITLE=150 Minories:geo:-0.1300681,51.5178676
END:VEVENT
END:VCALENDAR