BEGIN:VCALENDAR
VERSION:2.0
PRODID:-//Total Success Training - ECPv6.15.18//NONSGML v1.0//EN
CALSCALE:GREGORIAN
METHOD:PUBLISH
X-ORIGINAL-URL:https://www.totalsuccess.co.uk
X-WR-CALDESC:Events for Total Success Training
REFRESH-INTERVAL;VALUE=DURATION:PT1H
X-Robots-Tag:noindex
X-PUBLISHED-TTL:PT1H
BEGIN:VTIMEZONE
TZID:UTC
BEGIN:STANDARD
TZOFFSETFROM:+0000
TZOFFSETTO:+0000
TZNAME:UTC
DTSTART:20170101T000000
END:STANDARD
END:VTIMEZONE
BEGIN:VEVENT
DTSTART;TZID=UTC:20191118T093000
DTEND;TZID=UTC:20191118T173000
DTSTAMP:20260419T231633
CREATED:20191113T103436Z
LAST-MODIFIED:20191113T103436Z
UID:9950-1574069400-1574098200@www.totalsuccess.co.uk
SUMMARY:Telephone Skills and Customer Care – 1 day
DESCRIPTION:If you or your staff have to deal with customers both face to face or over the telephone then effective Customer Care training is essential in enabling you to develop a Customer Caring or ‘Customers First’ attitude to delivering service effectively and consistently. Total Success run a one-day Telephone Skills and Customer Care course for those wishing to learn telephone etiquette and handling customers on the telephone. \n Full Course Details
URL:https://www.totalsuccess.co.uk/course/telephone-skills-and-customer-care-1-day-17/
LOCATION:&Meetings\, 150 Minories\, London\, EC3N 1LS\, 150 Minories\, London\, EC3N 1LS\, United Kingdom
CATEGORIES:Selling and Customer Service,Telephone Skills and Customer Care - 1 Day
ATTACH;FMTTYPE=image/png:https://www.totalsuccess.co.uk/wp-content/uploads/2018/04/TS_HandTree.png
GEO:51.5178676;-0.1300681
X-APPLE-STRUCTURED-LOCATION;VALUE=URI;X-ADDRESS=&Meetings 150 Minories London EC3N 1LS 150 Minories London EC3N 1LS United Kingdom;X-APPLE-RADIUS=500;X-TITLE=150 Minories:geo:-0.1300681,51.5178676
END:VEVENT
BEGIN:VEVENT
DTSTART;TZID=UTC:20190828T093000
DTEND;TZID=UTC:20190828T173000
DTSTAMP:20260419T231633
CREATED:20190517T140244Z
LAST-MODIFIED:20190517T140244Z
UID:8626-1566984600-1567013400@www.totalsuccess.co.uk
SUMMARY:Telephone Skills and Customer Care – 1 day
DESCRIPTION:If you or your staff have to deal with customers both face to face or over the telephone then effective Customer Care training is essential in enabling you to develop a Customer Caring or ‘Customers First’ attitude to delivering service effectively and consistently. Total Success run a one-day Telephone Skills and Customer Care course for those wishing to learn telephone etiquette and handling customers on the telephone. \n Full Course Details
URL:https://www.totalsuccess.co.uk/course/telephone-skills-and-customer-care-1-day-4/
LOCATION:&Meetings\, 150 Minories\, London\, EC3N 1LS\, 150 Minories\, London\, EC3N 1LS\, United Kingdom
CATEGORIES:Selling and Customer Service,Telephone Skills and Customer Care - 1 Day
ATTACH;FMTTYPE=image/png:https://www.totalsuccess.co.uk/wp-content/uploads/2018/04/TS_HandTree.png
GEO:51.5178676;-0.1300681
X-APPLE-STRUCTURED-LOCATION;VALUE=URI;X-ADDRESS=&Meetings 150 Minories London EC3N 1LS 150 Minories London EC3N 1LS United Kingdom;X-APPLE-RADIUS=500;X-TITLE=150 Minories:geo:-0.1300681,51.5178676
END:VEVENT
BEGIN:VEVENT
DTSTART;TZID=UTC:20190731T093000
DTEND;TZID=UTC:20190731T173000
DTSTAMP:20260419T231633
CREATED:20190517T111233Z
LAST-MODIFIED:20190517T111233Z
UID:8522-1564565400-1564594200@www.totalsuccess.co.uk
SUMMARY:Telephone Skills and Customer Care – 1 day
DESCRIPTION:If you or your staff have to deal with customers both face to face or over the telephone then effective Customer Care training is essential in enabling you to develop a Customer Caring or ‘Customers First’ attitude to delivering service effectively and consistently. Total Success run a one-day Telephone Skills and Customer Care course for those wishing to learn telephone etiquette and handling customers on the telephone. \n Full Course Details
URL:https://www.totalsuccess.co.uk/course/telephone-skills-and-customer-care-1-day-3/
LOCATION:&Meetings\, 150 Minories\, London\, EC3N 1LS\, 150 Minories\, London\, EC3N 1LS\, United Kingdom
CATEGORIES:Selling and Customer Service,Telephone Skills and Customer Care - 1 Day
ATTACH;FMTTYPE=image/png:https://www.totalsuccess.co.uk/wp-content/uploads/2018/04/TS_HandTree.png
GEO:51.5178676;-0.1300681
X-APPLE-STRUCTURED-LOCATION;VALUE=URI;X-ADDRESS=&Meetings 150 Minories London EC3N 1LS 150 Minories London EC3N 1LS United Kingdom;X-APPLE-RADIUS=500;X-TITLE=150 Minories:geo:-0.1300681,51.5178676
END:VEVENT
BEGIN:VEVENT
DTSTART;TZID=UTC:20190703T093000
DTEND;TZID=UTC:20190703T173000
DTSTAMP:20260419T231633
CREATED:20190517T092706Z
LAST-MODIFIED:20190517T092706Z
UID:8417-1562146200-1562175000@www.totalsuccess.co.uk
SUMMARY:Telephone Skills and Customer Care – 1 day
DESCRIPTION:If you or your staff have to deal with customers both face to face or over the telephone then effective Customer Care training is essential in enabling you to develop a Customer Caring or ‘Customers First’ attitude to delivering service effectively and consistently. Total Success run a one-day Telephone Skills and Customer Care course for those wishing to learn telephone etiquette and handling customers on the telephone. \n Full Course Details
URL:https://www.totalsuccess.co.uk/course/telephone-skills-and-customer-care-1-day-2/
LOCATION:&Meetings\, 150 Minories\, London\, EC3N 1LS\, 150 Minories\, London\, EC3N 1LS\, United Kingdom
CATEGORIES:Selling and Customer Service,Telephone Skills and Customer Care - 1 Day
ATTACH;FMTTYPE=image/png:https://www.totalsuccess.co.uk/wp-content/uploads/2018/04/TS_HandTree.png
GEO:51.5178676;-0.1300681
X-APPLE-STRUCTURED-LOCATION;VALUE=URI;X-ADDRESS=&Meetings 150 Minories London EC3N 1LS 150 Minories London EC3N 1LS United Kingdom;X-APPLE-RADIUS=500;X-TITLE=150 Minories:geo:-0.1300681,51.5178676
END:VEVENT
BEGIN:VEVENT
DTSTART;TZID=UTC:20190605T093000
DTEND;TZID=UTC:20190605T173000
DTSTAMP:20260419T231633
CREATED:20180501T113517Z
LAST-MODIFIED:20190121T100407Z
UID:7795-1559727000-1559755800@www.totalsuccess.co.uk
SUMMARY:Telephone Skills and Customer Care – 1 day
DESCRIPTION:If you or your staff have to deal with customers both face to face or over the telephone then effective Customer Care training is essential in enabling you to develop a Customer Caring or ‘Customers First’ attitude to delivering service effectively and consistently. Total Success run a one-day Telephone Skills and Customer Care course for those wishing to learn telephone etiquette and handling customers on the telephone. \n Full Course Details
URL:https://www.totalsuccess.co.uk/course/telephone-skills-and-customer-care-1-day-13-2019-01-14-2019-06-05/
LOCATION:&Meetings\, 150 Minories\, London\, EC3N 1LS\, 150 Minories\, London\, EC3N 1LS\, United Kingdom
CATEGORIES:Selling and Customer Service,Telephone Skills and Customer Care - 1 Day
ATTACH;FMTTYPE=image/png:https://www.totalsuccess.co.uk/wp-content/uploads/2018/04/TS_HandTree.png
GEO:51.5178676;-0.1300681
X-APPLE-STRUCTURED-LOCATION;VALUE=URI;X-ADDRESS=&Meetings 150 Minories London EC3N 1LS 150 Minories London EC3N 1LS United Kingdom;X-APPLE-RADIUS=500;X-TITLE=150 Minories:geo:-0.1300681,51.5178676
END:VEVENT
BEGIN:VEVENT
DTSTART;TZID=UTC:20190508T093000
DTEND;TZID=UTC:20190508T173000
DTSTAMP:20260419T231633
CREATED:20180501T113517Z
LAST-MODIFIED:20190121T100334Z
UID:7794-1557307800-1557336600@www.totalsuccess.co.uk
SUMMARY:Telephone Skills and Customer Care – 1 day
DESCRIPTION:If you or your staff have to deal with customers both face to face or over the telephone then effective Customer Care training is essential in enabling you to develop a Customer Caring or ‘Customers First’ attitude to delivering service effectively and consistently. Total Success run a one-day Telephone Skills and Customer Care course for those wishing to learn telephone etiquette and handling customers on the telephone. \n Full Course Details
URL:https://www.totalsuccess.co.uk/course/telephone-skills-and-customer-care-1-day-13-2019-01-14-2019-05-08/
LOCATION:&Meetings\, 150 Minories\, London\, EC3N 1LS\, 150 Minories\, London\, EC3N 1LS\, United Kingdom
CATEGORIES:Selling and Customer Service,Telephone Skills and Customer Care - 1 Day
ATTACH;FMTTYPE=image/png:https://www.totalsuccess.co.uk/wp-content/uploads/2018/04/TS_HandTree.png
GEO:51.5178676;-0.1300681
X-APPLE-STRUCTURED-LOCATION;VALUE=URI;X-ADDRESS=&Meetings 150 Minories London EC3N 1LS 150 Minories London EC3N 1LS United Kingdom;X-APPLE-RADIUS=500;X-TITLE=150 Minories:geo:-0.1300681,51.5178676
END:VEVENT
BEGIN:VEVENT
DTSTART;TZID=UTC:20190410T093000
DTEND;TZID=UTC:20190410T173000
DTSTAMP:20260419T231633
CREATED:20180501T113517Z
LAST-MODIFIED:20190121T100310Z
UID:7793-1554888600-1554917400@www.totalsuccess.co.uk
SUMMARY:Telephone Skills and Customer Care – 1 day
DESCRIPTION:If you or your staff have to deal with customers both face to face or over the telephone then effective Customer Care training is essential in enabling you to develop a Customer Caring or ‘Customers First’ attitude to delivering service effectively and consistently. Total Success run a one-day Telephone Skills and Customer Care course for those wishing to learn telephone etiquette and handling customers on the telephone. \n Full Course Details
URL:https://www.totalsuccess.co.uk/course/telephone-skills-and-customer-care-1-day-13-2019-01-14-2019-04-10/
LOCATION:&Meetings\, 150 Minories\, London\, EC3N 1LS\, 150 Minories\, London\, EC3N 1LS\, United Kingdom
CATEGORIES:Selling and Customer Service,Telephone Skills and Customer Care - 1 Day
ATTACH;FMTTYPE=image/png:https://www.totalsuccess.co.uk/wp-content/uploads/2018/04/TS_HandTree.png
GEO:51.5178676;-0.1300681
X-APPLE-STRUCTURED-LOCATION;VALUE=URI;X-ADDRESS=&Meetings 150 Minories London EC3N 1LS 150 Minories London EC3N 1LS United Kingdom;X-APPLE-RADIUS=500;X-TITLE=150 Minories:geo:-0.1300681,51.5178676
END:VEVENT
BEGIN:VEVENT
DTSTART;TZID=UTC:20190313T093000
DTEND;TZID=UTC:20190313T173000
DTSTAMP:20260419T231633
CREATED:20180501T113517Z
LAST-MODIFIED:20190121T100238Z
UID:7792-1552469400-1552498200@www.totalsuccess.co.uk
SUMMARY:Telephone Skills and Customer Care – 1 day
DESCRIPTION:If you or your staff have to deal with customers both face to face or over the telephone then effective Customer Care training is essential in enabling you to develop a Customer Caring or ‘Customers First’ attitude to delivering service effectively and consistently. Total Success run a one-day Telephone Skills and Customer Care course for those wishing to learn telephone etiquette and handling customers on the telephone. \n Full Course Details
URL:https://www.totalsuccess.co.uk/course/telephone-skills-and-customer-care-1-day-13-2019-01-14-2019-03-13/
LOCATION:&Meetings\, 150 Minories\, London\, EC3N 1LS\, 150 Minories\, London\, EC3N 1LS\, United Kingdom
CATEGORIES:Selling and Customer Service,Telephone Skills and Customer Care - 1 Day
ATTACH;FMTTYPE=image/png:https://www.totalsuccess.co.uk/wp-content/uploads/2018/04/TS_HandTree.png
GEO:51.5178676;-0.1300681
X-APPLE-STRUCTURED-LOCATION;VALUE=URI;X-ADDRESS=&Meetings 150 Minories London EC3N 1LS 150 Minories London EC3N 1LS United Kingdom;X-APPLE-RADIUS=500;X-TITLE=150 Minories:geo:-0.1300681,51.5178676
END:VEVENT
BEGIN:VEVENT
DTSTART;TZID=UTC:20190213T093000
DTEND;TZID=UTC:20190213T173000
DTSTAMP:20260419T231633
CREATED:20180501T113517Z
LAST-MODIFIED:20190121T100039Z
UID:7791-1550050200-1550079000@www.totalsuccess.co.uk
SUMMARY:Telephone Skills and Customer Care – 1 day
DESCRIPTION:If you or your staff have to deal with customers both face to face or over the telephone then effective Customer Care training is essential in enabling you to develop a Customer Caring or ‘Customers First’ attitude to delivering service effectively and consistently. Total Success run a one-day Telephone Skills and Customer Care course for those wishing to learn telephone etiquette and handling customers on the telephone. \n Full Course Details
URL:https://www.totalsuccess.co.uk/course/telephone-skills-and-customer-care-1-day-13-2019-01-14-2019-02-13/
LOCATION:&Meetings\, 150 Minories\, London\, EC3N 1LS\, 150 Minories\, London\, EC3N 1LS\, United Kingdom
CATEGORIES:Selling and Customer Service,Telephone Skills and Customer Care - 1 Day
ATTACH;FMTTYPE=image/png:https://www.totalsuccess.co.uk/wp-content/uploads/2018/04/TS_HandTree.png
GEO:51.5178676;-0.1300681
X-APPLE-STRUCTURED-LOCATION;VALUE=URI;X-ADDRESS=&Meetings 150 Minories London EC3N 1LS 150 Minories London EC3N 1LS United Kingdom;X-APPLE-RADIUS=500;X-TITLE=150 Minories:geo:-0.1300681,51.5178676
END:VEVENT
BEGIN:VEVENT
DTSTART;TZID=UTC:20190114T093000
DTEND;TZID=UTC:20190114T173000
DTSTAMP:20260419T231633
CREATED:20180501T113517Z
LAST-MODIFIED:20181011T160354Z
UID:7117-1547458200-1547487000@www.totalsuccess.co.uk
SUMMARY:Telephone Skills and Customer Care – 1 day
DESCRIPTION:If you or your staff have to deal with customers both face to face or over the telephone then effective Customer Care training is essential in enabling you to develop a Customer Caring or ‘Customers First’ attitude to delivering service effectively and consistently. Total Success run a one-day Telephone Skills and Customer Care course for those wishing to learn telephone etiquette and handling customers on the telephone. \n Full Course Details
URL:https://www.totalsuccess.co.uk/course/telephone-skills-and-customer-care-1-day-13-2019-01-14/2019-01-14/
LOCATION:&Meetings\, 150 Minories\, London\, EC3N 1LS\, 150 Minories\, London\, EC3N 1LS\, United Kingdom
CATEGORIES:Selling and Customer Service,Telephone Skills and Customer Care - 1 Day
ATTACH;FMTTYPE=image/png:https://www.totalsuccess.co.uk/wp-content/uploads/2018/04/TS_HandTree.png
GEO:51.5178676;-0.1300681
X-APPLE-STRUCTURED-LOCATION;VALUE=URI;X-ADDRESS=&Meetings 150 Minories London EC3N 1LS 150 Minories London EC3N 1LS United Kingdom;X-APPLE-RADIUS=500;X-TITLE=150 Minories:geo:-0.1300681,51.5178676
END:VEVENT
BEGIN:VEVENT
DTSTART;TZID=UTC:20181217T093000
DTEND;TZID=UTC:20181217T173000
DTSTAMP:20260419T231633
CREATED:20180501T113517Z
LAST-MODIFIED:20180803T111942Z
UID:7116-1545039000-1545067800@www.totalsuccess.co.uk
SUMMARY:Telephone Skills and Customer Care – 1 day
DESCRIPTION:If you or your staff have to deal with customers both face to face or over the telephone then effective Customer Care training is essential in enabling you to develop a Customer Caring or ‘Customers First’ attitude to delivering service effectively and consistently. Total Success run a one-day Telephone Skills and Customer Care course for those wishing to learn telephone etiquette and handling customers on the telephone. \n Full Course Details
URL:https://www.totalsuccess.co.uk/course/telephone-skills-and-customer-care-1-day-13-2018-12-17/
LOCATION:&Meetings\, 150 Minories\, London\, EC3N 1LS\, 150 Minories\, London\, EC3N 1LS\, United Kingdom
CATEGORIES:Selling and Customer Service,Telephone Skills and Customer Care - 1 Day
ATTACH;FMTTYPE=image/png:https://www.totalsuccess.co.uk/wp-content/uploads/2018/04/TS_HandTree.png
GEO:51.5178676;-0.1300681
X-APPLE-STRUCTURED-LOCATION;VALUE=URI;X-ADDRESS=&Meetings 150 Minories London EC3N 1LS 150 Minories London EC3N 1LS United Kingdom;X-APPLE-RADIUS=500;X-TITLE=150 Minories:geo:-0.1300681,51.5178676
END:VEVENT
BEGIN:VEVENT
DTSTART;TZID=UTC:20181205T093000
DTEND;TZID=UTC:20181205T173000
DTSTAMP:20260419T231633
CREATED:20180501T113517Z
LAST-MODIFIED:20180803T111907Z
UID:7115-1544002200-1544031000@www.totalsuccess.co.uk
SUMMARY:Telephone Skills and Customer Care – 1 day
DESCRIPTION:If you or your staff have to deal with customers both face to face or over the telephone then effective Customer Care training is essential in enabling you to develop a Customer Caring or ‘Customers First’ attitude to delivering service effectively and consistently. Total Success run a one-day Telephone Skills and Customer Care course for those wishing to learn telephone etiquette and handling customers on the telephone. \n Full Course Details
URL:https://www.totalsuccess.co.uk/course/telephone-skills-and-customer-care-1-day-13-2018-12-05/
LOCATION:&Meetings\, 150 Minories\, London\, EC3N 1LS\, 150 Minories\, London\, EC3N 1LS\, United Kingdom
CATEGORIES:Selling and Customer Service,Telephone Skills and Customer Care - 1 Day
ATTACH;FMTTYPE=image/png:https://www.totalsuccess.co.uk/wp-content/uploads/2018/04/TS_HandTree.png
GEO:51.5178676;-0.1300681
X-APPLE-STRUCTURED-LOCATION;VALUE=URI;X-ADDRESS=&Meetings 150 Minories London EC3N 1LS 150 Minories London EC3N 1LS United Kingdom;X-APPLE-RADIUS=500;X-TITLE=150 Minories:geo:-0.1300681,51.5178676
END:VEVENT
END:VCALENDAR