BEGIN:VCALENDAR
VERSION:2.0
PRODID:-//Total Success Training - ECPv6.15.18//NONSGML v1.0//EN
CALSCALE:GREGORIAN
METHOD:PUBLISH
X-WR-CALNAME:Total Success Training
X-ORIGINAL-URL:https://www.totalsuccess.co.uk
X-WR-CALDESC:Events for Total Success Training
REFRESH-INTERVAL;VALUE=DURATION:PT1H
X-Robots-Tag:noindex
X-PUBLISHED-TTL:PT1H
BEGIN:VTIMEZONE
TZID:UTC
BEGIN:STANDARD
TZOFFSETFROM:+0000
TZOFFSETTO:+0000
TZNAME:UTC
DTSTART:20250101T000000
END:STANDARD
END:VTIMEZONE
BEGIN:VEVENT
DTSTART;TZID=UTC:20260602T093000
DTEND;TZID=UTC:20260602T160000
DTSTAMP:20260424T161430
CREATED:20230512T123502Z
LAST-MODIFIED:20260324T104233Z
UID:15405-1780392600-1780416000@www.totalsuccess.co.uk
SUMMARY:Time Management – 1 day - CPD Accredited - Face to Face training course
DESCRIPTION:Time management is a crucial factor in work and our time management courses are created to ensure that delegates can make their time keeping as efficient and effective as possible. We do this by supplying a time management training course that is full of tools and tips for improving time management\, time planning\, delegation\, organisation and management strategies as well as handling and using time effectively. \n Full Course Details
URL:https://www.totalsuccess.co.uk/course/time-management-1-day-cpd-accredited-face-to-face-training-course-13/
LOCATION:The Whitechapel Building\, 10 Whitechapel High St\, London\, E1 8QS\, 150 Minories\, London\, EC3N 1LS\, United Kingdom
CATEGORIES:Time Management - 1 Day,Time Management Training Courses
ATTACH;FMTTYPE=image/png:https://www.totalsuccess.co.uk/wp-content/uploads/2018/04/TS_HandTree.png
GEO:51.5178676;-0.1300681
X-APPLE-STRUCTURED-LOCATION;VALUE=URI;X-ADDRESS=The Whitechapel Building 10 Whitechapel High St London E1 8QS 150 Minories London EC3N 1LS United Kingdom;X-APPLE-RADIUS=500;X-TITLE=150 Minories:geo:-0.1300681,51.5178676
END:VEVENT
BEGIN:VEVENT
DTSTART;TZID=UTC:20260617T093000
DTEND;TZID=UTC:20260617T153000
DTSTAMP:20260424T161430
CREATED:20200913T121236Z
LAST-MODIFIED:20260324T105345Z
UID:11389-1781688600-1781710200@www.totalsuccess.co.uk
SUMMARY:Time Management – 1 day - CPD Accredited  - Live remote training course
DESCRIPTION:Time management is a crucial factor in work and our time management courses are created to ensure that delegates can make their time keeping as efficient and effective as possible. We do this by supplying a time management training course that is full of tools and tips for improving time management\, time planning\, delegation\, organisation and management strategies as well as handling and using time effectively. \n Full Course Details
URL:https://www.totalsuccess.co.uk/course/time-management-1-day-cpd-accredited-2/
LOCATION:The Whitechapel Building\, 10 Whitechapel High St\, London\, E1 8QS\, 150 Minories\, London\, EC3N 1LS\, United Kingdom
CATEGORIES:Time Management - 1 Day,Time Management Training Courses
ATTACH;FMTTYPE=image/png:https://www.totalsuccess.co.uk/wp-content/uploads/2018/04/TS_HandTree.png
GEO:51.5178676;-0.1300681
X-APPLE-STRUCTURED-LOCATION;VALUE=URI;X-ADDRESS=The Whitechapel Building 10 Whitechapel High St London E1 8QS 150 Minories London EC3N 1LS United Kingdom;X-APPLE-RADIUS=500;X-TITLE=150 Minories:geo:-0.1300681,51.5178676
END:VEVENT
END:VCALENDAR