BEGIN:VCALENDAR
VERSION:2.0
PRODID:-//Total Success Training - ECPv6.15.18//NONSGML v1.0//EN
CALSCALE:GREGORIAN
METHOD:PUBLISH
X-WR-CALNAME:Total Success Training
X-ORIGINAL-URL:https://www.totalsuccess.co.uk
X-WR-CALDESC:Events for Total Success Training
REFRESH-INTERVAL;VALUE=DURATION:PT1H
X-Robots-Tag:noindex
X-PUBLISHED-TTL:PT1H
BEGIN:VTIMEZONE
TZID:UTC
BEGIN:STANDARD
TZOFFSETFROM:+0000
TZOFFSETTO:+0000
TZNAME:UTC
DTSTART:20250101T000000
END:STANDARD
END:VTIMEZONE
BEGIN:VEVENT
DTSTART;TZID=UTC:20260813T093000
DTEND;TZID=UTC:20260813T153000
DTSTAMP:20260423T142452
CREATED:20210104T170242Z
LAST-MODIFIED:20251127T220212Z
UID:12279-1786613400-1786635000@www.totalsuccess.co.uk
SUMMARY:Time Management with Microsoft Outlook – 1 day - CPD Accredited Course - Live remote training course
DESCRIPTION:In this 1 day CPD accredited training course\, as well as learning how to use Outlook as a tool to manage your tasks\, calendar\, meetings\, delegations\, contacts and emails\, we will also introduce you to some of the new features of Outlook \n Full Course Details
URL:https://www.totalsuccess.co.uk/course/time-management-with-microsoft-outlook-1-day-cpd-accredited-course-9/
LOCATION:The Whitechapel Building\, 10 Whitechapel High St\, London\, E1 8QS\, 150 Minories\, London\, EC3N 1LS\, United Kingdom
CATEGORIES:Time Management Training Courses,Time Management with Outlook - 1 Day,Time Management with Outlook 2010 - 1 Day
ATTACH;FMTTYPE=image/png:https://www.totalsuccess.co.uk/wp-content/uploads/2018/04/TS_HandTree.png
GEO:51.5178676;-0.1300681
X-APPLE-STRUCTURED-LOCATION;VALUE=URI;X-ADDRESS=The Whitechapel Building 10 Whitechapel High St London E1 8QS 150 Minories London EC3N 1LS United Kingdom;X-APPLE-RADIUS=500;X-TITLE=150 Minories:geo:-0.1300681,51.5178676
END:VEVENT
END:VCALENDAR