BEGIN:VCALENDAR
VERSION:2.0
PRODID:-//Total Success Training - ECPv6.15.18//NONSGML v1.0//EN
CALSCALE:GREGORIAN
METHOD:PUBLISH
X-ORIGINAL-URL:https://www.totalsuccess.co.uk
X-WR-CALDESC:Events for Total Success Training
REFRESH-INTERVAL;VALUE=DURATION:PT1H
X-Robots-Tag:noindex
X-PUBLISHED-TTL:PT1H
BEGIN:VTIMEZONE
TZID:UTC
BEGIN:STANDARD
TZOFFSETFROM:+0000
TZOFFSETTO:+0000
TZNAME:UTC
DTSTART:20250101T000000
END:STANDARD
END:VTIMEZONE
BEGIN:VEVENT
DTSTART;TZID=UTC:20261008T093000
DTEND;TZID=UTC:20261008T153000
DTSTAMP:20260423T180622
CREATED:20210104T165939Z
LAST-MODIFIED:20251127T220254Z
UID:12271-1791451800-1791473400@www.totalsuccess.co.uk
SUMMARY:Time Management with Microsoft Outlook – 1 day - CPD Accredited Course - Live remote training course
DESCRIPTION:In this training course\, as well as learning how to use Outlook as a tool to manage your tasks\, calendar\, meetings\, delegations\, contacts and emails\, we will also introduce you to some of the new features of Microsoft Outlook. \n Full Course Details
URL:https://www.totalsuccess.co.uk/course/time-management-with-microsoft-outlook-1-day-cpd-accredited-course-6/
LOCATION:Zoom virtual meeting\, London\, United Kingdom
CATEGORIES:Time Management Training Courses,Time Management with Outlook - 1 Day,Time Management with Outlook 2010 - 1 Day
ATTACH;FMTTYPE=image/png:https://www.totalsuccess.co.uk/wp-content/uploads/2018/04/TS_HandTree.png
END:VEVENT
END:VCALENDAR