BEGIN:VCALENDAR
VERSION:2.0
PRODID:-//Total Success Training - ECPv6.15.18//NONSGML v1.0//EN
CALSCALE:GREGORIAN
METHOD:PUBLISH
X-ORIGINAL-URL:https://www.totalsuccess.co.uk
X-WR-CALDESC:Events for Total Success Training
REFRESH-INTERVAL;VALUE=DURATION:PT1H
X-Robots-Tag:noindex
X-PUBLISHED-TTL:PT1H
BEGIN:VTIMEZONE
TZID:UTC
BEGIN:STANDARD
TZOFFSETFROM:+0000
TZOFFSETTO:+0000
TZNAME:UTC
DTSTART:20250101T000000
END:STANDARD
END:VTIMEZONE
BEGIN:VEVENT
DTSTART;TZID=UTC:20260601T093000
DTEND;TZID=UTC:20260602T153000
DTSTAMP:20260419T144920
CREATED:20201231T190838Z
LAST-MODIFIED:20251118T173826Z
UID:12133-1780306200-1780414200@www.totalsuccess.co.uk
SUMMARY:Training the Trainer - 2 day CPD Accredited - Live remote course
DESCRIPTION:Total Success have been running successful Train the Trainer courses since 1995. This two-day course is essential if you have just been promoted to a training or coaching role or you wish to refresh your training skills. It is full of practical tools and techniques. \nHow We Will Organise The Live Remote Course: \nIt couldn’t be easier as we take care of the whole process from start to finish. \n\nBook the course you require online\nWe will send out the course materials including downloadable course manual\, all of the course materials\, a pre-course briefing form\nWe will start log-ins 15 minutes prior to the course start to allow everyone to connect\nAll delegates will complete the pre-prepared course activities that we will use during the course\nOur virtual courses are very interactive to keep delegate’s attention throughout\nAll delegates will complete a Post-course action plan that can be reviewed their managers after the course.\n\n Full Course Details
URL:https://www.totalsuccess.co.uk/course/training-the-trainer-2-day-cpd-accredited-live-remote-course-8/
LOCATION:Zoom virtual meeting\, London\, United Kingdom
CATEGORIES:Training the Trainer – 2 Day
ATTACH;FMTTYPE=image/png:https://www.totalsuccess.co.uk/wp-content/uploads/2018/04/TS_HandTree.png
END:VEVENT
BEGIN:VEVENT
DTSTART;TZID=UTC:20260625T093000
DTEND;TZID=UTC:20260626T160000
DTSTAMP:20260419T144920
CREATED:20201231T192050Z
LAST-MODIFIED:20251118T173301Z
UID:12145-1782379800-1782489600@www.totalsuccess.co.uk
SUMMARY:Training the Trainer - 2 day CPD Accredited course - Face to Face Workshop
DESCRIPTION:Total Success have been running successful Train the Trainer courses since 1995. This two-day course is essential if you have just been promoted to a training or coaching role or you wish to refresh your training skills. It is full of practical tools and techniques \n Full Course Details
URL:https://www.totalsuccess.co.uk/course/training-the-trainer-2-day-cpd-accredited-course-face-to-face-workshop-7/
LOCATION:&Meetings\, 150 Minories\, London\, EC3N 1LS\, 150 Minories\, London\, EC3N 1LS\, United Kingdom
CATEGORIES:Training the Trainer – 2 Day
ATTACH;FMTTYPE=image/png:https://www.totalsuccess.co.uk/wp-content/uploads/2018/04/TS_HandTree.png
GEO:51.5178676;-0.1300681
X-APPLE-STRUCTURED-LOCATION;VALUE=URI;X-ADDRESS=&Meetings 150 Minories London EC3N 1LS 150 Minories London EC3N 1LS United Kingdom;X-APPLE-RADIUS=500;X-TITLE=150 Minories:geo:-0.1300681,51.5178676
END:VEVENT
END:VCALENDAR